BEGIN:VCALENDAR
VERSION:2.0
PRODID:-//caputah.org//NONSGML kigkonsult.se iCalcreator 2.30.10//
CALSCALE:GREGORIAN
METHOD:PUBLISH
UID:bd2e4e0e-9516-4bd4-9c04-657f11adc9ab
X-WR-CALDESC:Join David Bradley for his April Coffee Chat. \n\n If possible
 \, send one representative from your agency to join and stay up to speed o
 n the Community Action legislative agenda.\n\nDue to the size of our coffe
 e chats\, we would greatly appreciate it if you register by Wednesday 4/2 
 and submit your question in advance via the registration form.\n\n\nAll re
 gistration will be manually approved starting Tuesday April 1st. CAPFacts 
 subscribers will have priority if capacity is reached.
X-WR-RELCALID:83258b719be867548408fddba6c10ce7
X-WR-TIMEZONE:America/Denver
BEGIN:VTIMEZONE
TZID:America/Denver
BEGIN:STANDARD
TZNAME:MST
DTSTART:20241103T020000
TZOFFSETFROM:-0600
TZOFFSETTO:-0700
RDATE:20251102T020000
END:STANDARD
BEGIN:DAYLIGHT
TZNAME:MDT
DTSTART:20250309T020000
TZOFFSETFROM:-0700
TZOFFSETTO:-0600
RDATE:20260308T020000
END:DAYLIGHT
END:VTIMEZONE
BEGIN:VEVENT
UID:006b9428-cbe4-4162-a58e-46f9db525c97
DTSTAMP:20260422T194106Z
DESCRIPTION:Join David Bradley for his April Coffee Chat. \n\n If possible\
 , send one representative from your agency to join and stay up to speed on
  the Community Action legislative agenda.\n\nDue to the size of our coffee
  chats\, we would greatly appreciate it if you register by Wednesday 4/2 a
 nd submit your question in advance via the registration form.\n\n\nAll reg
 istration will be manually approved starting Tuesday April 1st. CAPFacts s
 ubscribers will have priority if capacity is reached.
DTSTART;TZID=America/Denver:20250403T113000
DTEND;TZID=America/Denver:20250403T123000
LOCATION:https://us02web.zoom.us/webinar/register/WN_mU-sMa0pS4-ZPwq9kMFttA
 #/registration
SUMMARY:NCAF - April 2025 Coffee Chat with David Bradley
END:VEVENT
END:VCALENDAR
