BEGIN:VCALENDAR
VERSION:2.0
PRODID:-//caputah.org//NONSGML kigkonsult.se iCalcreator 2.30.10//
CALSCALE:GREGORIAN
METHOD:PUBLISH
UID:3796610a-171c-4506-9de7-4c6160bf024d
X-WR-CALDESC:Your audience is out there—but are you speaking their language
 ? Every social media platform has its own vibe\, audience\, and unwritten 
 rules. If your nonprofit wants to make an impact\, you need to craft messa
 ges that truly connect.\n\nJoin seasoned social media strategist Josi Garf
 ield for a hands-on workshop that will transform the way you communicate a
 cross platforms. This isn’t just about posting—it’s about storytelling tha
 t sticks\, engagement that grows\, and messaging that moves people to acti
 on.\n\nWhat You’ll Learn:\n? Know Your Crowd: Find out who’s active on Ins
 tagram\, Facebook\, LinkedIn\, and more—then tailor your messages to meet 
 them where they are.\n\n? One Message\, Many Voices: Learn how to take a s
 ingle post and reshape it for different platforms without losing impact or
  authenticity.\n\n? The Power of Storytelling: Turn dry updates into compe
 lling narratives that inspire\, engage\, and drive action.\n\n? Make Data 
 Work for You: Decode analytics to refine your messaging\, boost engagement
 \, and measure what’s working (and what’s not).\n\nThis session is built f
 or nonprofit professionals who want to level up their social media game—wh
 ether you’re looking to increase engagement\, raise awareness\, or drive r
 eal-world participation. You’ll leave with the tools\, strategies\, and co
 nfidence to craft messages that don’t just get seen—they get remembered.\n
 \nWhen\nThursday\, April 3\, 2025\, 11:00 AM- 12:00 PM (MT)\n\nWho Should 
 Attend\nMarketing Professionals\, Communication Managers\, anyone looking 
 to enhance their social media strategy and effectiveness through targeted 
 communication and powerful storytelling. \n\nCost:\nMembers Per Person: $4
 5\nNot-Yet-Members: $90
X-WR-RELCALID:3e1423d2a6e440e214f01005db1a3ea3
X-WR-TIMEZONE:America/Denver
BEGIN:VTIMEZONE
TZID:America/Denver
BEGIN:STANDARD
TZNAME:MST
DTSTART:20241103T020000
TZOFFSETFROM:-0600
TZOFFSETTO:-0700
RDATE:20251102T020000
END:STANDARD
BEGIN:DAYLIGHT
TZNAME:MDT
DTSTART:20250309T020000
TZOFFSETFROM:-0700
TZOFFSETTO:-0600
RDATE:20260308T020000
END:DAYLIGHT
END:VTIMEZONE
BEGIN:VEVENT
UID:f534d235-62e0-4e67-b9e1-b199d3d3d29d
DTSTAMP:20260422T193816Z
DESCRIPTION:Your audience is out there—but are you speaking their language?
  Every social media platform has its own vibe\, audience\, and unwritten r
 ules. If your nonprofit wants to make an impact\, you need to craft messag
 es that truly connect.\n\nJoin seasoned social media strategist Josi Garfi
 eld for a hands-on workshop that will transform the way you communicate ac
 ross platforms. This isn’t just about posting—it’s about storytelling that
  sticks\, engagement that grows\, and messaging that moves people to actio
 n.\n\nWhat You’ll Learn:\n? Know Your Crowd: Find out who’s active on Inst
 agram\, Facebook\, LinkedIn\, and more—then tailor your messages to meet t
 hem where they are.\n\n? One Message\, Many Voices: Learn how to take a si
 ngle post and reshape it for different platforms without losing impact or 
 authenticity.\n\n? The Power of Storytelling: Turn dry updates into compel
 ling narratives that inspire\, engage\, and drive action.\n\n? Make Data W
 ork for You: Decode analytics to refine your messaging\, boost engagement\
 , and measure what’s working (and what’s not).\n\nThis session is built fo
 r nonprofit professionals who want to level up their social media game—whe
 ther you’re looking to increase engagement\, raise awareness\, or drive re
 al-world participation. You’ll leave with the tools\, strategies\, and con
 fidence to craft messages that don’t just get seen—they get remembered.\n
 \nWhen\nThursday\, April 3\, 2025\, 11:00 AM- 12:00 PM (MT)\n\nWho Should 
 Attend\nMarketing Professionals\, Communication Managers\, anyone looking 
 to enhance their social media strategy and effectiveness through targeted 
 communication and powerful storytelling. \n\nCost:\nMembers Per Person: $4
 5\nNot-Yet-Members: $90
DTSTART;TZID=America/Denver:20250403T110000
DTEND;TZID=America/Denver:20250403T120000
LOCATION:https://members.utahnonprofits.org/una-event-calendar/Details/beyo
 nd-the-feed-messaging-across-platforms-1327886?sourceTypeId=Website
SUMMARY:UNA - Beyond the Feed: Messaging Across Platforms
END:VEVENT
END:VCALENDAR
