BEGIN:VCALENDAR
VERSION:2.0
PRODID:-//caputah.org//NONSGML kigkonsult.se iCalcreator 2.30.10//
CALSCALE:GREGORIAN
METHOD:PUBLISH
UID:9900435c-3f9c-4f40-831d-5651ddd2da38
X-WR-CALDESC:Having strong internal controls and understanding the rules go
 verning how you can and cannot spend federal dollars are keys to fiscal ma
 nagement and overall compliance in your organization. Professionals new to
  the organization\, as well as professionals who have been there for decad
 es\, will benefit from this two-to-three-day review of the administrative 
 and cost principles/allocation sections of the Office of Management and Bu
 dget's (OMB’s) 2 CFR Part 200 – Uniform Administrative Requirements\, Cost
  Principles and Audit Requirements for Federal Awards (also known as the “
 Uniform Guidance”). And if you administer a Head Start/Early Head Start pr
 ogram\, you’ll want to come to days three and four\, when we’ll discuss th
 e latest impacts of the Head Start Act and the Head Start Program Performa
 nce Standards.  Review the regulations you need to know to stay in complia
 nce through examples\, stories and best practices learned from years of au
 diting and consulting. You won’t just learn about the regulations but\, mo
 re importantly\, you’ll learn how to implement them in your organization i
 mmediately. Wipfli’s nonprofit professionals have been presenting the high
 est-quality training for more than 40 years. Participants declare Wipfli t
 raining to be “empowering\,” “outstanding\,” “meaningful\,” “invaluable” a
 nd “relevant.”
X-WR-RELCALID:7edcfc9c842c258ebc5eb99a2f3d2cec
X-WR-TIMEZONE:America/Denver
BEGIN:VTIMEZONE
TZID:America/Denver
BEGIN:STANDARD
TZNAME:MST
DTSTART:20241103T020000
TZOFFSETFROM:-0600
TZOFFSETTO:-0700
RDATE:20251102T020000
END:STANDARD
BEGIN:DAYLIGHT
TZNAME:MDT
DTSTART:20250309T020000
TZOFFSETFROM:-0700
TZOFFSETTO:-0600
RDATE:20260308T020000
END:DAYLIGHT
END:VTIMEZONE
BEGIN:VEVENT
UID:61ed555c-e0a9-446a-b7d7-78331bf86162
DTSTAMP:20260422T193810Z
DESCRIPTION:Having strong internal controls and understanding the rules gov
 erning how you can and cannot spend federal dollars are keys to fiscal man
 agement and overall compliance in your organization. Professionals new to 
 the organization\, as well as professionals who have been there for decade
 s\, will benefit from this two-to-three-day review of the administrative a
 nd cost principles/allocation sections of the Office of Management and Bud
 get's (OMB’s) 2 CFR Part 200 – Uniform Administrative Requirements\, Cost 
 Principles and Audit Requirements for Federal Awards (also known as the “U
 niform Guidance”). And if you administer a Head Start/Early Head Start pro
 gram\, you’ll want to come to days three and four\, when we’ll discuss the
  latest impacts of the Head Start Act and the Head Start Program Performan
 ce Standards.  Review the regulations you need to know to stay in complian
 ce through examples\, stories and best practices learned from years of aud
 iting and consulting. You won’t just learn about the regulations but\, mor
 e importantly\, you’ll learn how to implement them in your organization im
 mediately. Wipfli’s nonprofit professionals have been presenting the highe
 st-quality training for more than 40 years. Participants declare Wipfli tr
 aining to be “empowering\,” “outstanding\,” “meaningful\,” “invaluable” an
 d “relevant.”
DTSTART;TZID=America/Denver:20250408T040000
DTEND;TZID=America/Denver:20250411T040001
LOCATION:Crowne Plaza Dallas Downtown\, 1015 Elm St\, Dallas\, TX 75202 US
SUMMARY:WIPFLI - In-Depth training on OMB's UG plus HS/EHS Regs Boot
END:VEVENT
END:VCALENDAR
