BEGIN:VCALENDAR
VERSION:2.0
PRODID:-//caputah.org//NONSGML kigkonsult.se iCalcreator 2.30.10//
CALSCALE:GREGORIAN
METHOD:PUBLISH
UID:5bbc339f-cf8d-4206-9399-47a18df16512
X-WR-CALDESC:This training will equip participants with the knowledge and t
 ools to effectively prepare their agency for compliance with the 2025 CSBG
  Organizational Standards.This training is specific to CSBG funding recipi
 ents.\nKey Takeaways:\n•	Understand the 2025 CSBG Organizational Standards:
  Gain a working knowledge and understanding of the key principles and requ
 irements outlined in the Standards.\n•	Conduct a Self-Assessment: Learn how
  to conduct a thorough self-assessment of your agency against the Standard
 s.\n•	Develop an Action Plan: Create a roadmap for addressing any gaps iden
 tified in the self-assessment.\n•	Access and Utilize Resources: Explore ava
 ilable resources and tools to support your agency's compliance efforts.\n•
 	Engage with State and National Partners: Understand the role of state agen
 cies and the National Community Action Partnership in supporting organizat
 ional standards compliance.\nTarget Audience: This training is designed fo
 r staff at all levels of CSBG-eligible entities\, including executive dire
 ctors\, program managers\, board members\, and other key personnel.\n\nAll
  meetings will be via Zoom and will be recorded.\n
X-WR-RELCALID:cf0ded5e0aca75eeec54a83685ebb2d2
X-WR-TIMEZONE:America/Denver
BEGIN:VTIMEZONE
TZID:America/Denver
BEGIN:STANDARD
TZNAME:MST
DTSTART:20241103T020000
TZOFFSETFROM:-0600
TZOFFSETTO:-0700
RDATE:20251102T020000
END:STANDARD
BEGIN:DAYLIGHT
TZNAME:MDT
DTSTART:20250309T020000
TZOFFSETFROM:-0700
TZOFFSETTO:-0600
RDATE:20260308T020000
END:DAYLIGHT
END:VTIMEZONE
BEGIN:VEVENT
UID:3063bd5e-8cc7-4efe-a02c-dbc73b66840b
DTSTAMP:20260422T193947Z
DESCRIPTION:This training will equip participants with the knowledge and to
 ols to effectively prepare their agency for compliance with the 2025 CSBG 
 Organizational Standards.This training is specific to CSBG funding recipie
 nts.\nKey Takeaways:\n•	Understand the 2025 CSBG Organizational Standards: 
 Gain a working knowledge and understanding of the key principles and requi
 rements outlined in the Standards.\n•	Conduct a Self-Assessment: Learn how 
 to conduct a thorough self-assessment of your agency against the Standards
 .\n•	Develop an Action Plan: Create a roadmap for addressing any gaps ident
 ified in the self-assessment.\n•	Access and Utilize Resources: Explore avai
 lable resources and tools to support your agency's compliance efforts.\n•	E
 ngage with State and National Partners: Understand the role of state agenc
 ies and the National Community Action Partnership in supporting organizati
 onal standards compliance.\nTarget Audience: This training is designed for
  staff at all levels of CSBG-eligible entities\, including executive direc
 tors\, program managers\, board members\, and other key personnel.\n\nAll 
 meetings will be via Zoom and will be recorded.\n
DTSTART;TZID=America/Denver:20250415T110000
DTEND;TZID=America/Denver:20250415T120500
LOCATION:https://app.glueup.com/event/csnow-april-training-2025-organizatio
 nal-standards-138382/register/?verificationCode=[eventInviteeVerificationC
 ode]&pk_campaign=Event+announcement&pk_cid=363912&pk_kwd=363912&pk_medium=
 event-campaign&act=invitation-accept#
SUMMARY:CSNOW - April Training - 2025 Organizational Standards
END:VEVENT
END:VCALENDAR
