BEGIN:VCALENDAR
VERSION:2.0
PRODID:-//caputah.org//NONSGML kigkonsult.se iCalcreator 2.30.10//
CALSCALE:GREGORIAN
METHOD:PUBLISH
UID:ae82dcff-e9ca-4ac0-9b9e-10b5d4444af8
X-WR-CALDESC:In the ever-evolving landscape of HR compliance\, staying info
 rmed and adaptable is crucial\, especially during periods of significant p
 olitical and regulatory changes. This session will dive into the complexit
 ies and challenges HR professionals face focusing on the impact of executi
 ve orders and other regulatory shifts.\n\nLearning Objectives:\n1.	Identify
  the executive orders issued by the current administration and their impac
 t on HR policies and practices.\n2.	Review proactive compliance strategies 
 to navigate the uncertainties and ensure adherence to new regulations.\n3.
 	Discuss for potential future regulatory changes and their implications for
  HR compliance.\n\nSponsored and Hosted by Wipfli
X-WR-RELCALID:9f331c0327534ba198f6c91d6ed7bcc8
X-WR-TIMEZONE:America/Denver
BEGIN:VTIMEZONE
TZID:America/Denver
BEGIN:STANDARD
TZNAME:MST
DTSTART:20241103T020000
TZOFFSETFROM:-0600
TZOFFSETTO:-0700
RDATE:20251102T020000
END:STANDARD
BEGIN:DAYLIGHT
TZNAME:MDT
DTSTART:20250309T020000
TZOFFSETFROM:-0700
TZOFFSETTO:-0600
RDATE:20260308T020000
END:DAYLIGHT
END:VTIMEZONE
BEGIN:VEVENT
UID:7ab8e21b-2d21-4d73-b268-aada7e972b99
DTSTAMP:20260422T194206Z
DESCRIPTION:In the ever-evolving landscape of HR compliance\, staying infor
 med and adaptable is crucial\, especially during periods of significant po
 litical and regulatory changes. This session will dive into the complexiti
 es and challenges HR professionals face focusing on the impact of executiv
 e orders and other regulatory shifts.\n\nLearning Objectives:\n1.	Identify 
 the executive orders issued by the current administration and their impact
  on HR policies and practices.\n2.	Review proactive compliance strategies t
 o navigate the uncertainties and ensure adherence to new regulations.\n3.	D
 iscuss for potential future regulatory changes and their implications for 
 HR compliance.\n\nSponsored and Hosted by Wipfli
DTSTART;TZID=America/Denver:20250415T100000
DTEND;TZID=America/Denver:20250415T110000
LOCATION:https://communityactionpartnership.zoom.us/webinar/register/WN_SVM
 xEeo_QqiLU14FMxxQ6Q#/registration
SUMMARY:NCAP - Navigating HR Compliance Amid Regulatory Shifts
END:VEVENT
END:VCALENDAR
