BEGIN:VCALENDAR
VERSION:2.0
PRODID:-//caputah.org//NONSGML kigkonsult.se iCalcreator 2.30.10//
CALSCALE:GREGORIAN
METHOD:PUBLISH
UID:5d622df9-3884-41f0-a3b5-b56aca6562d1
X-WR-CALDESC:Are you finding it hard to generate in-kind?\n\nIs answering t
 he question\, “Is this in-kind?” your responsibility?\n\nDoes generating i
 n-kind fall on your shoulders?\n\nOr do you not even know what this “in-ki
 nd” thing is?\n\nFirst\, we’ll discuss the tools\, techniques and regulati
 ons of planning\, generating\, calculating and documenting non-federal mat
 ch. Make generating in-kind the responsibility of everyone in your program
 .\n\nOnce you’ve heard the compliance side of in-kind\, let’s determine th
 e plan— who to ask\, how to ask and what to ask. Leave with specific goals
 \, strategies\, and tasks to bring more in-kind into your agency. (Imagine
  if you had all the in-kind you needed.)\n\nLearning objectives\nExplore t
 he basics of in-kind\, including the different types of in-kind and tips o
 n how to generate more in-kind.\nReview the specifics of in-kind requireme
 nts and the common pitfalls to avoid.\nDiscover who in your community to a
 sk for in-kind.\n\nRegistration fee\n$300 per person
X-WR-RELCALID:fda5e61886ae0bcd239e5c28986db183
X-WR-TIMEZONE:America/Denver
BEGIN:VTIMEZONE
TZID:America/Denver
BEGIN:STANDARD
TZNAME:MST
DTSTART:20241103T020000
TZOFFSETFROM:-0600
TZOFFSETTO:-0700
RDATE:20251102T020000
END:STANDARD
BEGIN:DAYLIGHT
TZNAME:MDT
DTSTART:20250309T020000
TZOFFSETFROM:-0700
TZOFFSETTO:-0600
RDATE:20260308T020000
END:DAYLIGHT
END:VTIMEZONE
BEGIN:VEVENT
UID:9f6437fb-68af-46da-9082-8f881e6fb6aa
DTSTAMP:20260422T194118Z
DESCRIPTION:Are you finding it hard to generate in-kind?\n\nIs answering th
 e question\, “Is this in-kind?” your responsibility?\n\nDoes generating in
 -kind fall on your shoulders?\n\nOr do you not even know what this “in-kin
 d” thing is?\n\nFirst\, we’ll discuss the tools\, techniques and regulatio
 ns of planning\, generating\, calculating and documenting non-federal matc
 h. Make generating in-kind the responsibility of everyone in your program.
 \n\nOnce you’ve heard the compliance side of in-kind\, let’s determine the
  plan— who to ask\, how to ask and what to ask. Leave with specific goals\
 , strategies\, and tasks to bring more in-kind into your agency. (Imagine 
 if you had all the in-kind you needed.)\n\nLearning objectives\nExplore th
 e basics of in-kind\, including the different types of in-kind and tips on
  how to generate more in-kind.\nReview the specifics of in-kind requiremen
 ts and the common pitfalls to avoid.\nDiscover who in your community to as
 k for in-kind.\n\nRegistration fee\n$300 per person
DTSTART;TZID=America/Denver:20250415T093000
DTEND;TZID=America/Denver:20250415T133000
LOCATION:https://www.wipfli.com/events/in-kind-regulations-and-making-your-
 plan
SUMMARY:WIPFLI - In-kind regulations and making your plan
END:VEVENT
END:VCALENDAR
