BEGIN:VCALENDAR
VERSION:2.0
PRODID:-//caputah.org//NONSGML kigkonsult.se iCalcreator 2.30.10//
CALSCALE:GREGORIAN
METHOD:PUBLISH
UID:4b76577f-b176-4bc6-9af6-f5e28d76452e
X-WR-CALDESC:Billions of dollars are shifting to the next generation\, and 
 with it\, the future of philanthropy is changing. Will your nonprofit keep
  donors engaged—or risk losing vital support? The key is connecting with h
 eirs now and adapting to evolving giving priorities to build lasting partn
 erships that will sustain your mission for years to come.\n\nWhat You’ll L
 earn:\n\nThe Generational Wealth Transfer: Get the inside scoop on how wea
 lth is changing hands and how you can build lasting relationships with hei
 rs to keep donor legacies alive.\nStronger Ties with Donor Families: Learn
  how to create real\, trust-filled connections and shared vision that turn
  one-time gifts into multi-generational impact.\nBeyond a Single Lifetime:
  Discover proven tactics and creative ways to inspire long-term giving and
  ensure your nonprofit thrives for years to come. Learn how to inspire don
 ors to view their contributions as part of a larger\, intergenerational im
 pact.\nThis is your chance to future-proof your donor relationships and ke
 ep philanthropy strong for generations.\n\nWho Should Attend?\nThis event 
 is ideal for nonprofit leaders\, development professionals\, fundraisers\,
  and anyone involved in managing donor relationships.\n\nCost:\nMembers: $
 45\nNot-Yet-Members: $90
X-WR-RELCALID:8964fb908b7c3fdde8dd9c1e6b1aee85
X-WR-TIMEZONE:America/Denver
BEGIN:VTIMEZONE
TZID:America/Denver
BEGIN:STANDARD
TZNAME:MST
DTSTART:20241103T020000
TZOFFSETFROM:-0600
TZOFFSETTO:-0700
RDATE:20251102T020000
END:STANDARD
BEGIN:DAYLIGHT
TZNAME:MDT
DTSTART:20250309T020000
TZOFFSETFROM:-0700
TZOFFSETTO:-0600
RDATE:20260308T020000
END:DAYLIGHT
END:VTIMEZONE
BEGIN:VEVENT
UID:8a47e27a-4e7e-41fb-9a43-593bad8d293f
DTSTAMP:20260422T193939Z
DESCRIPTION:Billions of dollars are shifting to the next generation\, and w
 ith it\, the future of philanthropy is changing. Will your nonprofit keep 
 donors engaged—or risk losing vital support? The key is connecting with he
 irs now and adapting to evolving giving priorities to build lasting partne
 rships that will sustain your mission for years to come.\n\nWhat You’ll Le
 arn:\n\nThe Generational Wealth Transfer: Get the inside scoop on how weal
 th is changing hands and how you can build lasting relationships with heir
 s to keep donor legacies alive.\nStronger Ties with Donor Families: Learn 
 how to create real\, trust-filled connections and shared vision that turn 
 one-time gifts into multi-generational impact.\nBeyond a Single Lifetime: 
 Discover proven tactics and creative ways to inspire long-term giving and 
 ensure your nonprofit thrives for years to come. Learn how to inspire dono
 rs to view their contributions as part of a larger\, intergenerational imp
 act.\nThis is your chance to future-proof your donor relationships and kee
 p philanthropy strong for generations.\n\nWho Should Attend?\nThis event i
 s ideal for nonprofit leaders\, development professionals\, fundraisers\, 
 and anyone involved in managing donor relationships.\n\nCost:\nMembers: $4
 5\nNot-Yet-Members: $90
DTSTART;TZID=America/Denver:20250417T123000
DTEND;TZID=America/Denver:20250417T143000
LOCATION:https://members.utahnonprofits.org/una-event-calendar/Details/pass
 ing-the-torch-the-wealth-exchange-1332081?sourceTypeId=Website
SUMMARY:UNA - Passing the Torch: The Wealth Exchange
END:VEVENT
END:VCALENDAR
