BEGIN:VCALENDAR
VERSION:2.0
PRODID:-//caputah.org//NONSGML kigkonsult.se iCalcreator 2.30.10//
CALSCALE:GREGORIAN
METHOD:PUBLISH
UID:9aeea016-40de-4a93-aae4-0691ac17c025
X-WR-CALDESC:Join us for a 60-minute webinar with Kelly Cutchin\, lead deve
 loper of the Weatherization Assistance Badges Toolkit. The webinar will di
 scuss the benefits and uses of badges\, also called micro-credentials\, in
  general\, and as part of a flexible and effective program improvement str
 ategy for weatherization field workers. We will cover what is included in 
 the badging toolkit\, which is free to download and use\, and different wa
 ys agencies might make use of the toolkit. Come learn about this useful to
 olkit and get your questions answered.
X-WR-RELCALID:6e714d3cc0b41c00cd14ac6a935a09a6
X-WR-TIMEZONE:America/Denver
BEGIN:VTIMEZONE
TZID:America/Denver
BEGIN:STANDARD
TZNAME:MST
DTSTART:20241103T020000
TZOFFSETFROM:-0600
TZOFFSETTO:-0700
RDATE:20251102T020000
END:STANDARD
BEGIN:DAYLIGHT
TZNAME:MDT
DTSTART:20250309T020000
TZOFFSETFROM:-0700
TZOFFSETTO:-0600
RDATE:20260308T020000
END:DAYLIGHT
END:VTIMEZONE
BEGIN:VEVENT
UID:29439175-bc7b-46b1-9d93-ea7feaa32b87
DTSTAMP:20260422T211243Z
DESCRIPTION:Join us for a 60-minute webinar with Kelly Cutchin\, lead devel
 oper of the Weatherization Assistance Badges Toolkit. The webinar will dis
 cuss the benefits and uses of badges\, also called micro-credentials\, in 
 general\, and as part of a flexible and effective program improvement stra
 tegy for weatherization field workers. We will cover what is included in t
 he badging toolkit\, which is free to download and use\, and different way
 s agencies might make use of the toolkit. Come learn about this useful too
 lkit and get your questions answered.
DTSTART;TZID=America/Denver:20250423T110000
DTEND;TZID=America/Denver:20250423T120000
LOCATION:https://communityactionpartnership.zoom.us/webinar/register/WN_mA4
 2O_I2QXqsuleT9X-4tw#/registration
SUMMARY:NCAP - Badging and Micro-credentials: What they are\, How to Use Th
 em\, and the Toolkit at your Fingertips
END:VEVENT
END:VCALENDAR
