BEGIN:VCALENDAR
VERSION:2.0
PRODID:-//caputah.org//NONSGML kigkonsult.se iCalcreator 2.30.10//
CALSCALE:GREGORIAN
METHOD:PUBLISH
UID:caced122-27fc-4d77-a6d5-ea116d03629b
X-WR-CALDESC:This session will equip organizational leaders with the tools 
 to effectively manage finances in an ever-changing environment. Participan
 ts will learn how to transform budgets into forecasts and use forecasting 
 models to promptly understand and react to data. With this knowledge\, you
  can make informed decisions to guide your organization towards success.\n
 \n1. Discuss ways to utilize budgets and forecasting to respond to changin
 g financial conditions.\n2. Examine a real-life example and apply the tips
  learned.\n3. Identify areas where forecasting can be adjusted in response
  to changes.\n\nThis webinar is sponsored by NCAP endorsed vendor\, Wipfli
 .
X-WR-RELCALID:1ceb36f6a8178c00b08d81b30e056cc2
X-WR-TIMEZONE:America/Denver
BEGIN:VTIMEZONE
TZID:America/Denver
BEGIN:STANDARD
TZNAME:MST
DTSTART:20241103T020000
TZOFFSETFROM:-0600
TZOFFSETTO:-0700
RDATE:20251102T020000
END:STANDARD
BEGIN:DAYLIGHT
TZNAME:MDT
DTSTART:20250309T020000
TZOFFSETFROM:-0700
TZOFFSETTO:-0600
RDATE:20260308T020000
END:DAYLIGHT
END:VTIMEZONE
BEGIN:VEVENT
UID:844454ab-e01b-4e17-a75c-52c8ea2c9a53
DTSTAMP:20260422T193810Z
DESCRIPTION:This session will equip organizational leaders with the tools t
 o effectively manage finances in an ever-changing environment. Participant
 s will learn how to transform budgets into forecasts and use forecasting m
 odels to promptly understand and react to data. With this knowledge\, you 
 can make informed decisions to guide your organization towards success.\n
 \n1. Discuss ways to utilize budgets and forecasting to respond to changin
 g financial conditions.\n2. Examine a real-life example and apply the tips
  learned.\n3. Identify areas where forecasting can be adjusted in response
  to changes.\n\nThis webinar is sponsored by NCAP endorsed vendor\, Wipfli
 .
DTSTART;TZID=America/Denver:20250423T120000
DTEND;TZID=America/Denver:20250423T130000
LOCATION:https://communityactionpartnership.zoom.us/webinar/register/WN_BBn
 XVnu1TxuiV3-F00W7cQ#/registration
SUMMARY:NCAP - Optimizing Your Organization’s Finances in a Dynamic Environ
 ment
END:VEVENT
END:VCALENDAR
