BEGIN:VCALENDAR
VERSION:2.0
PRODID:-//caputah.org//NONSGML kigkonsult.se iCalcreator 2.30.10//
CALSCALE:GREGORIAN
METHOD:PUBLISH
UID:04fb215c-f37f-4628-be28-884d18832d1c
X-WR-CALDESC:Please Note: These Town Halls are exclusively for Executive Di
 rectors and CEOs\, and pre-registration is required.\n\nThe current enviro
 nment presents unique challenges for Community Action leaders. \n\nJoin NC
 AP for a conversation designed to provide current Community Action Executi
 ve Directors (EDs) and CEOs space to talk candidly about emerging issues\,
  receive updates on relevant tools and resources\, and learn about success
 ful strategies from peers.\n\nThe Town Halls will enable NCAP to gain dire
 ct insight into the needs of local leaders\, ensuring national support rem
 ains aligned with local priorities.\n\nTo ensure focused discussions\, Tow
 n Hall sessions have been organized based on geographic location and agenc
 y size. However\, CEO/ED leaders are welcome to attend any session that be
 st suits their availability. Each session will be approximately 60 minutes
 . The following sessions are available:\n
X-WR-RELCALID:db07b4e59689b20ed4941619f5136a3d
X-WR-TIMEZONE:America/Denver
BEGIN:VTIMEZONE
TZID:America/Denver
BEGIN:STANDARD
TZNAME:MST
DTSTART:20241103T020000
TZOFFSETFROM:-0600
TZOFFSETTO:-0700
RDATE:20251102T020000
END:STANDARD
BEGIN:DAYLIGHT
TZNAME:MDT
DTSTART:20250309T020000
TZOFFSETFROM:-0700
TZOFFSETTO:-0600
RDATE:20260308T020000
END:DAYLIGHT
END:VTIMEZONE
BEGIN:VEVENT
UID:15ff9923-c84d-4e36-80d2-4639edfad2e7
DTSTAMP:20260422T194426Z
DESCRIPTION:Please Note: These Town Halls are exclusively for Executive Dir
 ectors and CEOs\, and pre-registration is required.\n\nThe current environ
 ment presents unique challenges for Community Action leaders. \n\nJoin NCA
 P for a conversation designed to provide current Community Action Executiv
 e Directors (EDs) and CEOs space to talk candidly about emerging issues\, 
 receive updates on relevant tools and resources\, and learn about successf
 ul strategies from peers.\n\nThe Town Halls will enable NCAP to gain direc
 t insight into the needs of local leaders\, ensuring national support rema
 ins aligned with local priorities.\n\nTo ensure focused discussions\, Town
  Hall sessions have been organized based on geographic location and agency
  size. However\, CEO/ED leaders are welcome to attend any session that bes
 t suits their availability. Each session will be approximately 60 minutes.
  The following sessions are available:\n
DTSTART;TZID=America/Denver:20250424T120000
DTEND;TZID=America/Denver:20250424T130000
LOCATION:https://ncap.users.membersuite.com/events/9a6db3bd-0078-ccbd-1310-
 0b4808a87480/details
SUMMARY:NCAP - Responding to the Shifting Landscape: A Community Action Lea
 der's Town Hall - Eastern US CAA Town Hall
END:VEVENT
END:VCALENDAR
