BEGIN:VCALENDAR
VERSION:2.0
PRODID:-//caputah.org//NONSGML kigkonsult.se iCalcreator 2.30.10//
CALSCALE:GREGORIAN
METHOD:PUBLISH
UID:f891f134-78c9-409d-ac32-54ea42e58b61
X-WR-CALDESC:This is a special\, virtual 1.5 hour workshop for CEOs/EDs of 
 Community Action Agencies and State Associations. \n\nSpace is limited and
  registrations will be approved manually.\n\nRules of Lobbying\nWords + th
 emes that work\nStorytelling\nSuccessful strategies\nValue of coalitions
X-WR-RELCALID:2cf37c2bc87071b4b059d9011df996f8
X-WR-TIMEZONE:America/Denver
BEGIN:VTIMEZONE
TZID:America/Denver
BEGIN:STANDARD
TZNAME:MST
DTSTART:20241103T020000
TZOFFSETFROM:-0600
TZOFFSETTO:-0700
RDATE:20251102T020000
END:STANDARD
BEGIN:DAYLIGHT
TZNAME:MDT
DTSTART:20250309T020000
TZOFFSETFROM:-0700
TZOFFSETTO:-0600
RDATE:20260308T020000
END:DAYLIGHT
END:VTIMEZONE
BEGIN:VEVENT
UID:0915297b-4718-42b1-92ba-4f4d6dfb1547
DTSTAMP:20260422T194415Z
DESCRIPTION:This is a special\, virtual 1.5 hour workshop for CEOs/EDs of C
 ommunity Action Agencies and State Associations. \n\nSpace is limited and 
 registrations will be approved manually.\n\nRules of Lobbying\nWords + the
 mes that work\nStorytelling\nSuccessful strategies\nValue of coalitions
DTSTART;TZID=America/Denver:20250429T110000
DTEND;TZID=America/Denver:20250429T123000
LOCATION:https://us02web.zoom.us/webinar/register/WN_Dpzck2i-TdCFaSTWlRyIww
 #/registration
SUMMARY:NCAF - What you need to know to save America's War on Poverty
END:VEVENT
END:VCALENDAR
