BEGIN:VCALENDAR
VERSION:2.0
PRODID:-//caputah.org//NONSGML kigkonsult.se iCalcreator 2.30.10//
CALSCALE:GREGORIAN
METHOD:PUBLISH
UID:9569e6a7-63d3-46e7-94cf-e0bddf7a790e
X-WR-CALDESC:In the face of ongoing uncertainty and high work demands\, pri
 oritizing self-care and the health and well-being of teams is not a luxury
 —it's essential for sustainability and impact. Join NCAP for a replenishin
 g space to focus on practical strategies for both individual and collectiv
 e well-being. Now is the time for individuals and teams to prioritize thei
 r well-being to ensure they can continue to serve their communities from a
  place of fullness.
X-WR-RELCALID:b6dafeef30030db42b542b29a85fedc6
X-WR-TIMEZONE:America/Denver
BEGIN:VTIMEZONE
TZID:America/Denver
BEGIN:STANDARD
TZNAME:MST
DTSTART:20241103T020000
TZOFFSETFROM:-0600
TZOFFSETTO:-0700
RDATE:20251102T020000
END:STANDARD
BEGIN:DAYLIGHT
TZNAME:MDT
DTSTART:20250309T020000
TZOFFSETFROM:-0700
TZOFFSETTO:-0600
RDATE:20260308T020000
END:DAYLIGHT
END:VTIMEZONE
BEGIN:VEVENT
UID:667b41b4-26f1-4efa-a560-eec92754de51
DTSTAMP:20260422T194254Z
DESCRIPTION:In the face of ongoing uncertainty and high work demands\, prio
 ritizing self-care and the health and well-being of teams is not a luxury—
 it's essential for sustainability and impact. Join NCAP for a replenishing
  space to focus on practical strategies for both individual and collective
  well-being. Now is the time for individuals and teams to prioritize their
  well-being to ensure they can continue to serve their communities from a 
 place of fullness.
DTSTART;TZID=America/Denver:20250429T110000
DTEND;TZID=America/Denver:20250429T120000
LOCATION:https://communityactionpartnership.zoom.us/meeting/register/EF-PAd
 vtSPOcVn5s5vv2AQ#/registration
SUMMARY:NCAP - Recharge & Reconnect: Prioritizing Self-Care and Team Well-B
 eing
END:VEVENT
END:VCALENDAR
