BEGIN:VCALENDAR
VERSION:2.0
PRODID:-//caputah.org//NONSGML kigkonsult.se iCalcreator 2.30.10//
CALSCALE:GREGORIAN
METHOD:PUBLISH
UID:b2acaf1f-b5f8-4196-8c53-cd4417e3f8c4
X-WR-CALDESC:Community Action Agencies (CAAs) strive to improve not only ec
 onomic stability but also the emotional and social well-being of individua
 ls and families.\nHow can CAAs measure outcomes like hope\, happiness\, re
 siliency\, and a sense of belonging\, which reflect the transformative imp
 act of their programs? This\nwebinar will guide CAA professionals in selec
 ting\, designing\, and implementing tools to measure these critical indica
 tors. Attendees will explore evidence-based\npractices\, survey tools\, an
 d qualitative methods to capture these dimensions and translate them into 
 meaningful data. Through case studies and interactive exercises\, attendee
 s will learn how to integrate these measurements into reporting frameworks
 \, communicate impact to funders\, and make data-driven\nadjustments that 
 enhance program outcomes and support community empowerment. Join us to dee
 pen your approach to outcome measurement and foster a more holistic vision
  of success within your agency.
X-WR-RELCALID:adac9303209103114992bbf666dea58e
X-WR-TIMEZONE:America/Denver
BEGIN:VTIMEZONE
TZID:America/Denver
BEGIN:STANDARD
TZNAME:MST
DTSTART:20241103T020000
TZOFFSETFROM:-0600
TZOFFSETTO:-0700
RDATE:20251102T020000
END:STANDARD
BEGIN:DAYLIGHT
TZNAME:MDT
DTSTART:20250309T020000
TZOFFSETFROM:-0700
TZOFFSETTO:-0600
RDATE:20260308T020000
END:DAYLIGHT
END:VTIMEZONE
BEGIN:VEVENT
UID:f4e34f9d-b706-4456-8ceb-89271e3139e4
DTSTAMP:20260422T194717Z
DESCRIPTION:Community Action Agencies (CAAs) strive to improve not only eco
 nomic stability but also the emotional and social well-being of individual
 s and families.\nHow can CAAs measure outcomes like hope\, happiness\, res
 iliency\, and a sense of belonging\, which reflect the transformative impa
 ct of their programs? This\nwebinar will guide CAA professionals in select
 ing\, designing\, and implementing tools to measure these critical indicat
 ors. Attendees will explore evidence-based\npractices\, survey tools\, and
  qualitative methods to capture these dimensions and translate them into m
 eaningful data. Through case studies and interactive exercises\, attendees
  will learn how to integrate these measurements into reporting frameworks\
 , communicate impact to funders\, and make data-driven\nadjustments that e
 nhance program outcomes and support community empowerment. Join us to deep
 en your approach to outcome measurement and foster a more holistic vision 
 of success within your agency.
DTSTART;TZID=America/Denver:20250430T120000
DTEND;TZID=America/Denver:20250430T130000
LOCATION:https://communityactionpartnership.zoom.us/webinar/register/WN_OT1
 b6IRYTjaxThS56hc99w#/registration
SUMMARY:NCAP - Beyond the Numbers: New Ideas for Measuring the Promise & Im
 pact of Community Action
END:VEVENT
END:VCALENDAR
