BEGIN:VCALENDAR
VERSION:2.0
PRODID:-//caputah.org//NONSGML kigkonsult.se iCalcreator 2.30.10//
CALSCALE:GREGORIAN
METHOD:PUBLISH
UID:7c59dfc2-07d2-4008-9562-d811f5cb5d8e
X-WR-CALDESC:UNA is excited to offering this program about reducing anxiety
  in partnership with Minnesota Council of Nonprofits. \n\nFinancial anxiet
 y can often feel overwhelming\, especially when today’s environment is rif
 e with economic unknowns. This interactive session introduces the fundamen
 tals of financial therapy\, clarifies the differences between financial an
 xiety and financial stress\, and demonstrates research-based strategies to
  bolster financial well-being. We will explore “the worry hour” technique 
 and other practical interventions for managing financial anxiety. Particip
 ants will leave understanding how to support themselves and others in cult
 ivating healthy financial money mindsets.\n\nLearning Objectives\n\nDiffer
 entiate the concepts of financial anxiety and financial stress\, understan
 ding how each can impact individuals and communities.\nIdentify and apply 
 evidence-based interventions\, including the “worry hour\,” to mitigate fi
 nancial anxiety and encourage healthier financial habits.\nExamine relevan
 t research to understand strategies that lead to sustained financial well-
 being.\nDevelop a personalized action plan for implementing financial ther
 apy tools in both professional and personal settings.\n\nCost:\nUNA Member
 s: $50 (Using the discount code found in the Info Hub under Partner Traini
 ng Discount Codes)\nNot-Yet-Members: $70
X-WR-RELCALID:644e895c78e04416739a284c79289d37
X-WR-TIMEZONE:America/Denver
BEGIN:VTIMEZONE
TZID:America/Denver
BEGIN:STANDARD
TZNAME:MST
DTSTART:20241103T020000
TZOFFSETFROM:-0600
TZOFFSETTO:-0700
RDATE:20251102T020000
END:STANDARD
BEGIN:DAYLIGHT
TZNAME:MDT
DTSTART:20250309T020000
TZOFFSETFROM:-0700
TZOFFSETTO:-0600
RDATE:20260308T020000
END:DAYLIGHT
END:VTIMEZONE
BEGIN:VEVENT
UID:d61ab3a8-c6ea-41c7-a491-b4e831141c8f
DTSTAMP:20260422T194129Z
DESCRIPTION:UNA is excited to offering this program about reducing anxiety 
 in partnership with Minnesota Council of Nonprofits. \n\nFinancial anxiety
  can often feel overwhelming\, especially when today’s environment is rife
  with economic unknowns. This interactive session introduces the fundament
 als of financial therapy\, clarifies the differences between financial anx
 iety and financial stress\, and demonstrates research-based strategies to 
 bolster financial well-being. We will explore “the worry hour” technique a
 nd other practical interventions for managing financial anxiety. Participa
 nts will leave understanding how to support themselves and others in culti
 vating healthy financial money mindsets.\n\nLearning Objectives\n\nDiffere
 ntiate the concepts of financial anxiety and financial stress\, understand
 ing how each can impact individuals and communities.\nIdentify and apply e
 vidence-based interventions\, including the “worry hour\,” to mitigate fin
 ancial anxiety and encourage healthier financial habits.\nExamine relevant
  research to understand strategies that lead to sustained financial well-b
 eing.\nDevelop a personalized action plan for implementing financial thera
 py tools in both professional and personal settings.\n\nCost:\nUNA Members
 : $50 (Using the discount code found in the Info Hub under Partner Trainin
 g Discount Codes)\nNot-Yet-Members: $70
DTSTART;TZID=America/Denver:20250430T123000
DTEND;TZID=America/Denver:20250430T143000
LOCATION:https://members.utahnonprofits.org/una-event-calendar/Details/navi
 gating-uncertainty-financial-therapy-tools-for-reducing-anxiety-and-buildi
 ng-well-being-1373259?sourceTypeId=Hub
SUMMARY:UNA - Navigating Uncertainty: Financial Therapy Tools for Reducing 
 Anxiety and Building Well-Being
END:VEVENT
END:VCALENDAR
