BEGIN:VCALENDAR
VERSION:2.0
PRODID:-//caputah.org//NONSGML kigkonsult.se iCalcreator 2.30.10//
CALSCALE:GREGORIAN
METHOD:PUBLISH
UID:bd5636b5-df0b-47b4-bfac-b09a630646b9
X-WR-CALDESC:Burnout is real\, and as nonprofit professionals\, we often pr
 ioritize others before ourselves. But what if the key to sustainable impac
 t is understanding what truly matters to us and finding meaningful ways to
  connect?\n\nJoin Project Connection Mental Health and Utah Nonprofits Ass
 ociation for an engaging and interactive session where we’ll explore the p
 ower of social prescribing—an innovative approach that helps individuals c
 onnect with their community\, boost well-being\, and rediscover purpose.\n
 \nAt this event\, you’ll experience the same assessments Project Connectio
 n uses with clients to deepen self-understanding and foster meaningful con
 nections. This is a chance to invest in your well-being while building rel
 ationships with fellow nonprofit professionals.\n\nRegister in advance for
  this FREE event and plan to join us on May 1!\n\n Light snacks and drinks
  will be served
X-WR-RELCALID:42c84dde023e88f1c6e03db2b6ff3cfb
X-WR-TIMEZONE:America/Denver
BEGIN:VTIMEZONE
TZID:America/Denver
BEGIN:STANDARD
TZNAME:MST
DTSTART:20241103T020000
TZOFFSETFROM:-0600
TZOFFSETTO:-0700
RDATE:20251102T020000
END:STANDARD
BEGIN:DAYLIGHT
TZNAME:MDT
DTSTART:20250309T020000
TZOFFSETFROM:-0700
TZOFFSETTO:-0600
RDATE:20260308T020000
END:DAYLIGHT
END:VTIMEZONE
BEGIN:VEVENT
UID:b95b2f5b-9185-458c-9056-4e4c0abef24d
DTSTAMP:20260422T182038Z
DESCRIPTION:Burnout is real\, and as nonprofit professionals\, we often pri
 oritize others before ourselves. But what if the key to sustainable impact
  is understanding what truly matters to us and finding meaningful ways to 
 connect?\n\nJoin Project Connection Mental Health and Utah Nonprofits Asso
 ciation for an engaging and interactive session where we’ll explore the po
 wer of social prescribing—an innovative approach that helps individuals co
 nnect with their community\, boost well-being\, and rediscover purpose.\n
 \nAt this event\, you’ll experience the same assessments Project Connectio
 n uses with clients to deepen self-understanding and foster meaningful con
 nections. This is a chance to invest in your well-being while building rel
 ationships with fellow nonprofit professionals.\n\nRegister in advance for
  this FREE event and plan to join us on May 1!\n\n Light snacks and drinks
  will be served
DTSTART;TZID=America/Denver:20250501T160000
DTEND;TZID=America/Denver:20250501T170000
LOCATION:Project Connection Office\, 2655 S. Lake Erie Drive\, Suite B\, We
 st Valley City\,\, UT 84120 US
SUMMARY:UNA - Discover the Magic of Social Prescribing: A Special Event for
  the Nonprofit Community
END:VEVENT
END:VCALENDAR
