BEGIN:VCALENDAR
VERSION:2.0
PRODID:-//caputah.org//NONSGML kigkonsult.se iCalcreator 2.30.10//
CALSCALE:GREGORIAN
METHOD:PUBLISH
UID:84ebbc68-2fa2-482b-b39b-e656d1b04bca
X-WR-CALDESC:Public CAAs\, join NCAP and your peers for a conversation focu
 sed on the issues that matter most to you. Get updates\, exchange ideas\, 
 and discuss the challenges and opportunities facing the Community Action n
 etwork today.
X-WR-RELCALID:5bd08cf10e2288224e9093ed6215aa76
X-WR-TIMEZONE:America/Denver
BEGIN:VTIMEZONE
TZID:America/Denver
BEGIN:STANDARD
TZNAME:MST
DTSTART:20241103T020000
TZOFFSETFROM:-0600
TZOFFSETTO:-0700
RDATE:20251102T020000
RDATE:20261101T020000
END:STANDARD
BEGIN:DAYLIGHT
TZNAME:MDT
DTSTART:20250309T020000
TZOFFSETFROM:-0700
TZOFFSETTO:-0600
RDATE:20260308T020000
END:DAYLIGHT
END:VTIMEZONE
BEGIN:VEVENT
UID:7f6ec84d-1013-4bb9-a6cb-eb84fbdbdb66
DTSTAMP:20260422T181800Z
DESCRIPTION:Public CAAs\, join NCAP and your peers for a conversation focus
 ed on the issues that matter most to you. Get updates\, exchange ideas\, a
 nd discuss the challenges and opportunities facing the Community Action ne
 twork today.
DTSTART;TZID=America/Denver:20250506T120000
DTEND;TZID=America/Denver:20250506T130000
LOCATION:https://communityactionpartnership.zoom.us/meeting/register/bowkeh
 dRRwKiALkrdOLpyg#/registration
SUMMARY:NCAP - Quarterly Public CAA Call with Denise Harlow
END:VEVENT
END:VCALENDAR
