BEGIN:VCALENDAR
VERSION:2.0
PRODID:-//caputah.org//NONSGML kigkonsult.se iCalcreator 2.30.10//
CALSCALE:GREGORIAN
METHOD:PUBLISH
UID:e8dc91f3-4f0e-425a-9752-a5ccdfae8c49
X-WR-CALDESC:UNA is excited to offer this valuable training series in partn
 ership with Maryland Nonprofits on navigating AI responsibly. It’s FREE fo
 r all UNA members who use the discount code available in the Info Hub.\n\n
 Join all three sessions or participate à la carte. \n\nHuman-Centered AI U
 se\nWhile generative AI tools may present content with authority\, nonprof
 it staff are still the best experts on their missions and a critical asset
  in ensuring all technology\, including AI-enabled tools\, are used equita
 bly by the organization. In this webinar\, participants will learn to iden
 tify where human oversight and responsible use in practice is crucial in t
 heir organizations. We will provide guidance on assessing and redesigning 
 workflows\, enhancing outcomes and relationships while leveraging generati
 ve AI effectively. This webinar is the second in a series\; though you do 
 not need to join for all three sessions. This webinar provides a focus on 
 practices.
X-WR-RELCALID:d2989611c36ae475d3aee58f4ed1329c
X-WR-TIMEZONE:America/Denver
BEGIN:VTIMEZONE
TZID:America/Denver
BEGIN:STANDARD
TZNAME:MST
DTSTART:20241103T020000
TZOFFSETFROM:-0600
TZOFFSETTO:-0700
RDATE:20251102T020000
RDATE:20261101T020000
END:STANDARD
BEGIN:DAYLIGHT
TZNAME:MDT
DTSTART:20250309T020000
TZOFFSETFROM:-0700
TZOFFSETTO:-0600
RDATE:20260308T020000
END:DAYLIGHT
END:VTIMEZONE
BEGIN:VEVENT
UID:3a73a9ae-f352-4d2b-91b9-60fc299ceb10
DTSTAMP:20260422T181345Z
DESCRIPTION:UNA is excited to offer this valuable training series in partne
 rship with Maryland Nonprofits on navigating AI responsibly. It’s FREE for
  all UNA members who use the discount code available in the Info Hub.\n\nJ
 oin all three sessions or participate à la carte. \n\nHuman-Centered AI Us
 e\nWhile generative AI tools may present content with authority\, nonprofi
 t staff are still the best experts on their missions and a critical asset 
 in ensuring all technology\, including AI-enabled tools\, are used equitab
 ly by the organization. In this webinar\, participants will learn to ident
 ify where human oversight and responsible use in practice is crucial in th
 eir organizations. We will provide guidance on assessing and redesigning w
 orkflows\, enhancing outcomes and relationships while leveraging generativ
 e AI effectively. This webinar is the second in a series\; though you do n
 ot need to join for all three sessions. This webinar provides a focus on p
 ractices.
DTSTART;TZID=America/Denver:20250506T123000
DTEND;TZID=America/Denver:20250506T140000
LOCATION:https://marylandnonprofits.my.site.com/fvamano/s/community-event?i
 d=a1RUO000001SzBF2A0
SUMMARY:UNA - AI Webinar Series - Human-Centered AI Use
END:VEVENT
END:VCALENDAR
