BEGIN:VCALENDAR
VERSION:2.0
PRODID:-//caputah.org//NONSGML kigkonsult.se iCalcreator 2.30.10//
CALSCALE:GREGORIAN
METHOD:PUBLISH
UID:a2dd2f0d-11a3-41c1-b8ed-07b240a2f2f6
X-WR-CALDESC:This coffee chat will be Q + A focused. David will answer as m
 any questions as possible. We’d appreciate if you can submit a question in
  advance with your registration but will also do our best to get through l
 ive questions.\n\nDue to the size of our coffee chats\, we would greatly a
 ppreciate it if you by Wednesday 5/7.\n
X-WR-RELCALID:64633f9f2ad15e0aaafbbf306697972b
X-WR-TIMEZONE:America/Denver
BEGIN:VTIMEZONE
TZID:America/Denver
BEGIN:STANDARD
TZNAME:MST
DTSTART:20241103T020000
TZOFFSETFROM:-0600
TZOFFSETTO:-0700
RDATE:20251102T020000
RDATE:20261101T020000
END:STANDARD
BEGIN:DAYLIGHT
TZNAME:MDT
DTSTART:20250309T020000
TZOFFSETFROM:-0700
TZOFFSETTO:-0600
RDATE:20260308T020000
END:DAYLIGHT
END:VTIMEZONE
BEGIN:VEVENT
UID:782f1bc9-7a5e-460e-bdf4-4ed9c88b75a2
DTSTAMP:20260422T181350Z
DESCRIPTION:This coffee chat will be Q + A focused. David will answer as ma
 ny questions as possible. We’d appreciate if you can submit a question in 
 advance with your registration but will also do our best to get through li
 ve questions.\n\nDue to the size of our coffee chats\, we would greatly ap
 preciate it if you by Wednesday 5/7.\n
DTSTART;TZID=America/Denver:20250508T113000
DTEND;TZID=America/Denver:20250508T123000
LOCATION:https://us02web.zoom.us/webinar/register/WN_efd0NIzHSCGNfxxmT9jLeQ
 #/registration
SUMMARY:NCAF - May 2025 Coffee Chat with David Bradley
END:VEVENT
END:VCALENDAR
