BEGIN:VCALENDAR
VERSION:2.0
PRODID:-//caputah.org//NONSGML kigkonsult.se iCalcreator 2.30.10//
CALSCALE:GREGORIAN
METHOD:PUBLISH
UID:7ae4db6b-c4ae-491a-81a2-5139cf4595c2
X-WR-CALDESC:The 2025 Pathways to Excellence Implementer Training will guid
 e participants in assessing their organization’s current practices and doc
 umenting their alignment with the 35 Community Action Standards of Excelle
 nce. This documentation will form the foundation for developing and leadin
 g a self-study process that drives the organization’s Continuous Quality I
 mprovement efforts\, reinforcing the connection between an excellence-driv
 en culture and ongoing improvement.\n\nThrough practical activities\, part
 icipants will gain the tools and skills to lead the self-study\; improve o
 rganizational assessment\, planning\, and performance\; and serve as a fou
 ndation for their ongoing excellence journey within the Pathways to Excell
 ence program.\n\nRegistration for this training includes access to the Pat
 hways to Excellence eCourse and a collection of tools and resources.\n\nNo
 te: Agencies currently enrolled in the Pathways to Excellence Silver Tier 
 receive one complimentary registration. Excellence Team leaders have recei
 ved a discount code via email.\n\nREGISTRATION FEES:\n\n•	Members - $399 pe
 r person\n•	Non-Members - $499 per person \n\nThis training is open to any 
 person or organization in the Community Action Network\, but space is limi
 ted\, so register now!\n
X-WR-RELCALID:02d9a4fd4b6cadd3222f9563e5763670
X-WR-TIMEZONE:America/Denver
BEGIN:VTIMEZONE
TZID:America/Denver
BEGIN:STANDARD
TZNAME:MST
DTSTART:20241103T020000
TZOFFSETFROM:-0600
TZOFFSETTO:-0700
RDATE:20251102T020000
RDATE:20261101T020000
END:STANDARD
BEGIN:DAYLIGHT
TZNAME:MDT
DTSTART:20250309T020000
TZOFFSETFROM:-0700
TZOFFSETTO:-0600
RDATE:20260308T020000
END:DAYLIGHT
END:VTIMEZONE
BEGIN:VEVENT
UID:9f44aeec-df80-4f53-892c-f196a2f85ca0
DTSTAMP:20260422T181151Z
DESCRIPTION:The 2025 Pathways to Excellence Implementer Training will guide
  participants in assessing their organization’s current practices and docu
 menting their alignment with the 35 Community Action Standards of Excellen
 ce. This documentation will form the foundation for developing and leading
  a self-study process that drives the organization’s Continuous Quality Im
 provement efforts\, reinforcing the connection between an excellence-drive
 n culture and ongoing improvement.\n\nThrough practical activities\, parti
 cipants will gain the tools and skills to lead the self-study\; improve or
 ganizational assessment\, planning\, and performance\; and serve as a foun
 dation for their ongoing excellence journey within the Pathways to Excelle
 nce program.\n\nRegistration for this training includes access to the Path
 ways to Excellence eCourse and a collection of tools and resources.\n\nNot
 e: Agencies currently enrolled in the Pathways to Excellence Silver Tier r
 eceive one complimentary registration. Excellence Team leaders have receiv
 ed a discount code via email.\n\nREGISTRATION FEES:\n\n•	Members - $399 per
  person\n•	Non-Members - $499 per person \n\nThis training is open to any p
 erson or organization in the Community Action Network\, but space is limit
 ed\, so register now!\n
DTSTART;TZID=America/Denver:20250508T110000
DTEND;TZID=America/Denver:20250508T150000
LOCATION:https://ncap.users.membersuite.com/events/9a6db3bd-0078-c039-2911-
 0b47f8920341/details
SUMMARY:NCAP - 2025 Pathways to Excellence Implementer Training
END:VEVENT
END:VCALENDAR
