BEGIN:VCALENDAR
VERSION:2.0
PRODID:-//caputah.org//NONSGML kigkonsult.se iCalcreator 2.30.10//
CALSCALE:GREGORIAN
METHOD:PUBLISH
UID:2eccc095-d7ed-4df5-b30d-9dd6795a2921
X-WR-CALDESC:Head Start (HS) and Early Head Start (EHS) are some of the lar
 gest federally funded programs. The Head Start Act and the Head Start Prog
 ram Performance Standards (HSPPS) contain pages and pages of guidelines th
 at programs must follow to stay in compliance. The goal is to help you get
  comfortable with those guidelines.\n\nBased on decades of feedback\, we b
 uilt this online boot camp to blend regulations\, best practices and actio
 n planning with the opportunity to ask your questions.\n\nParticipants dec
 lare Wipfli training to be “empowering\,” “outstanding\,” “meaningful\,” “
 invaluable” and “relevant.”\n\nWho should attend\nIf you’re new\, if you’v
 e been around a while and want a refresher\, if you’re program oriented or
  if you’re fiscal oriented — this session is for you. There will be someth
 ing for everyone.\n\nLeaders interested in learning how to apply complianc
 e with current regulations while still meeting the mission\nThose new to l
 eadership in the agency who are now responsible for financial and/or progr
 am compliance\nTeams\, including the CEO/executive director\, fiscal team\
 , program teams\, policy council and board/tribal council members \n\nRegi
 stration fee\nRegular rate: $975 per person\n\nDaily schedule\nTuesday\, M
 ay 6\, 2025\n\n12:30-4 p.m. CT\n\nHS history\nHS regulations\nGovernance\n
 Finance and administrative\n \n\nWednesday\, May 7\, 2025\n\n12:30-4 p.m. 
 CT\n\nEligibility\, recruitment\, selection\, enrollment and attendance (E
 RSEA)\nProgram design (health\, nutrition\, parent involvement\, ratios\, 
 safety etc.)\n \n\nThursday\, May 8\, 2025\n\n12:30-4 p.m. CT\n\nHR compli
 ance in HS\nCommunity involvement (aka in-kind) and wrap-up
X-WR-RELCALID:2695be7422787796c2090a2e2e608063
X-WR-TIMEZONE:America/Denver
BEGIN:VTIMEZONE
TZID:America/Denver
BEGIN:STANDARD
TZNAME:MST
DTSTART:20241103T020000
TZOFFSETFROM:-0600
TZOFFSETTO:-0700
RDATE:20251102T020000
RDATE:20261101T020000
END:STANDARD
BEGIN:DAYLIGHT
TZNAME:MDT
DTSTART:20250309T020000
TZOFFSETFROM:-0700
TZOFFSETTO:-0600
RDATE:20260308T020000
END:DAYLIGHT
END:VTIMEZONE
BEGIN:VEVENT
UID:95df1a56-2a38-44ec-86b5-1594672a9307
DTSTAMP:20260422T181442Z
DESCRIPTION:Head Start (HS) and Early Head Start (EHS) are some of the larg
 est federally funded programs. The Head Start Act and the Head Start Progr
 am Performance Standards (HSPPS) contain pages and pages of guidelines tha
 t programs must follow to stay in compliance. The goal is to help you get 
 comfortable with those guidelines.\n\nBased on decades of feedback\, we bu
 ilt this online boot camp to blend regulations\, best practices and action
  planning with the opportunity to ask your questions.\n\nParticipants decl
 are Wipfli training to be “empowering\,” “outstanding\,” “meaningful\,” “i
 nvaluable” and “relevant.”\n\nWho should attend\nIf you’re new\, if you’ve
  been around a while and want a refresher\, if you’re program oriented or 
 if you’re fiscal oriented — this session is for you. There will be somethi
 ng for everyone.\n\nLeaders interested in learning how to apply compliance
  with current regulations while still meeting the mission\nThose new to le
 adership in the agency who are now responsible for financial and/or progra
 m compliance\nTeams\, including the CEO/executive director\, fiscal team\,
  program teams\, policy council and board/tribal council members \n\nRegis
 tration fee\nRegular rate: $975 per person\n\nDaily schedule\nTuesday\, Ma
 y 6\, 2025\n\n12:30-4 p.m. CT\n\nHS history\nHS regulations\nGovernance\nF
 inance and administrative\n \n\nWednesday\, May 7\, 2025\n\n12:30-4 p.m. C
 T\n\nEligibility\, recruitment\, selection\, enrollment and attendance (ER
 SEA)\nProgram design (health\, nutrition\, parent involvement\, ratios\, s
 afety etc.)\n \n\nThursday\, May 8\, 2025\n\n12:30-4 p.m. CT\n\nHR complia
 nce in HS\nCommunity involvement (aka in-kind) and wrap-up
DTSTART;TZID=America/Denver:20250506T040000
DTEND;TZID=America/Denver:20250508T040001
LOCATION:https://www.wipfli.com/events/nge-head-start-early-head-start-regu
 lations-boot-camp-may-2025
SUMMARY:WIPFLI - Head Start/Early Head Start regulations boot camp
END:VEVENT
END:VCALENDAR
