BEGIN:VCALENDAR
VERSION:2.0
PRODID:-//caputah.org//NONSGML kigkonsult.se iCalcreator 2.30.10//
CALSCALE:GREGORIAN
METHOD:PUBLISH
UID:656d4411-e5d9-4ada-ac16-4a1e6ecbe1d4
X-WR-CALDESC:In this webinar\, attendees will learn best practices for usin
 g secondary data to support grant writing and stakeholder engagement. Spec
 ifically\, attendees will learn to find and interpret secondary data in th
 e NCAP Data Hub to demonstrate their agency region’s needs\, strengths\, a
 nd shifting capacities for poverty fighting. They will then practice combi
 ning these data findings with narrative to craft compelling needs statemen
 ts for grant writing and elevator pitches.\nAttendees should leave the web
 inar with the following skills:\n - Ability to find and interpret secondar
 y data in the NCAP Data Hub’s Needs Assessment tool and Map Room\n - Abili
 ty to create simple\, easy-to-interpret visualizations\, maps\, and one-pa
 gers to help introduce decision makers to your agency region’s unique issu
 es\n - Strategies for using data to craft needs statements for grant writi
 ng\, elevator pitches\, and other proposals
X-WR-RELCALID:d6026a4d6af21d086e7adc6605c03ffe
X-WR-TIMEZONE:America/Denver
BEGIN:VTIMEZONE
TZID:America/Denver
BEGIN:STANDARD
TZNAME:MST
DTSTART:20241103T020000
TZOFFSETFROM:-0600
TZOFFSETTO:-0700
RDATE:20251102T020000
RDATE:20261101T020000
END:STANDARD
BEGIN:DAYLIGHT
TZNAME:MDT
DTSTART:20250309T020000
TZOFFSETFROM:-0700
TZOFFSETTO:-0600
RDATE:20260308T020000
END:DAYLIGHT
END:VTIMEZONE
BEGIN:VEVENT
UID:690ba100-3d5e-429a-9458-4310b91f8a36
DTSTAMP:20260422T193939Z
DESCRIPTION:In this webinar\, attendees will learn best practices for using
  secondary data to support grant writing and stakeholder engagement. Speci
 fically\, attendees will learn to find and interpret secondary data in the
  NCAP Data Hub to demonstrate their agency region’s needs\, strengths\, an
 d shifting capacities for poverty fighting. They will then practice combin
 ing these data findings with narrative to craft compelling needs statement
 s for grant writing and elevator pitches.\nAttendees should leave the webi
 nar with the following skills:\n - Ability to find and interpret secondary
  data in the NCAP Data Hub’s Needs Assessment tool and Map Room\n - Abilit
 y to create simple\, easy-to-interpret visualizations\, maps\, and one-pag
 ers to help introduce decision makers to your agency region’s unique issue
 s\n - Strategies for using data to craft needs statements for grant writin
 g\, elevator pitches\, and other proposals
DTSTART;TZID=America/Denver:20250513T120000
DTEND;TZID=America/Denver:20250513T130000
LOCATION:https://communityactionpartnership.zoom.us/meeting/register/dgoo7i
 YCSCiNfySaAbouSg#/registration
SUMMARY:NCAP - Data Hub: Best Practices for Using Your Secondary Data to Su
 pport Grant Writing and Stakeholder Engagement
END:VEVENT
END:VCALENDAR
