BEGIN:VCALENDAR
VERSION:2.0
PRODID:-//caputah.org//NONSGML kigkonsult.se iCalcreator 2.30.10//
CALSCALE:GREGORIAN
METHOD:PUBLISH
UID:d4fd8529-4a87-4e7d-8562-826210d6b35d
X-WR-CALDESC:Change is constant—but that doesn’t mean you have to navigate 
 it alone. Whether you're facing financial shifts\, program challenges\, or
  big organizational changes\, your ability to lead with confidence\, clari
 ty\, humility\, and even a little humor makes all the difference.\n\nJoin 
 UNA and Kari Anderson from Incite! Consulting for a webinar designed to he
 lp you stay steady\, make smart decisions\, and lead your team with resili
 ence—no matter what’s ahead.\n\nWhat You’ll Learn:\n\n✅ Adaptability: Shif
 t your leadership style to meet evolving challenges.\n✅ Trust and Engageme
 nt: Keep your team motivated and aligned during uncertainty.\n✅ Resilience
 : Strengthen both your leadership and your organization’s agility.\n✅ Smar
 t Decision-Making: Balance bold moves with calculated risks.\n✅ Confident 
 Communication: Inspire trust\, even when the path forward isn’t clear.\n\n
 Expect real-world case studies\, practical leadership frameworks\, and too
 ls you can start using right away. Whether you're a seasoned leader or ste
 pping into leadership for the first time\, this session will leave you fee
 ling empowered\, prepared\, and ready to thrive.\n\nWhen:\nTuesday\, May 1
 3\, 2025\, 2:00PM to 3:00 PM (online)\n\nWho Should Attend:\nThis training
  is ideal for nonprofit leaders\, executives\, middle managers\, program d
 irectors\, board members\, HR professionals\, emerging leaders\, and consu
 ltants. Anyone responsible for guiding teams or organizations through unce
 rtainty\, change\, or crisis will gain valuable strategies for building re
 silience\, fostering trust\, and making confident decisions.\n\nCost:\nUNA
  Members: $45 | Not-Yet-Members: $90
X-WR-RELCALID:cd9d86107096f841df0475c161b672f2
X-WR-TIMEZONE:America/Denver
BEGIN:VTIMEZONE
TZID:America/Denver
BEGIN:STANDARD
TZNAME:MST
DTSTART:20241103T020000
TZOFFSETFROM:-0600
TZOFFSETTO:-0700
RDATE:20251102T020000
RDATE:20261101T020000
END:STANDARD
BEGIN:DAYLIGHT
TZNAME:MDT
DTSTART:20250309T020000
TZOFFSETFROM:-0700
TZOFFSETTO:-0600
RDATE:20260308T020000
END:DAYLIGHT
END:VTIMEZONE
BEGIN:VEVENT
UID:ef1f8908-3076-41ce-8726-b0f738822f7b
DTSTAMP:20260422T181633Z
DESCRIPTION:Change is constant—but that doesn’t mean you have to navigate i
 t alone. Whether you're facing financial shifts\, program challenges\, or 
 big organizational changes\, your ability to lead with confidence\, clarit
 y\, humility\, and even a little humor makes all the difference.\n\nJoin U
 NA and Kari Anderson from Incite! Consulting for a webinar designed to hel
 p you stay steady\, make smart decisions\, and lead your team with resilie
 nce—no matter what’s ahead.\n\nWhat You’ll Learn:\n\n✅ Adaptability: Shift
  your leadership style to meet evolving challenges.\n✅ Trust and Engagemen
 t: Keep your team motivated and aligned during uncertainty.\n✅ Resilience:
  Strengthen both your leadership and your organization’s agility.\n✅ Smart
  Decision-Making: Balance bold moves with calculated risks.\n✅ Confident C
 ommunication: Inspire trust\, even when the path forward isn’t clear.\n\nE
 xpect real-world case studies\, practical leadership frameworks\, and tool
 s you can start using right away. Whether you're a seasoned leader or step
 ping into leadership for the first time\, this session will leave you feel
 ing empowered\, prepared\, and ready to thrive.\n\nWhen:\nTuesday\, May 13
 \, 2025\, 2:00PM to 3:00 PM (online)\n\nWho Should Attend:\nThis training 
 is ideal for nonprofit leaders\, executives\, middle managers\, program di
 rectors\, board members\, HR professionals\, emerging leaders\, and consul
 tants. Anyone responsible for guiding teams or organizations through uncer
 tainty\, change\, or crisis will gain valuable strategies for building res
 ilience\, fostering trust\, and making confident decisions.\n\nCost:\nUNA 
 Members: $45 | Not-Yet-Members: $90
DTSTART;TZID=America/Denver:20250513T140000
DTEND;TZID=America/Denver:20250513T150000
LOCATION:https://members.utahnonprofits.org/ap/Events/Register/EqFxqYxugC6C
 9
SUMMARY:UNA - Agility in the Fog
END:VEVENT
END:VCALENDAR
