BEGIN:VCALENDAR
VERSION:2.0
PRODID:-//caputah.org//NONSGML kigkonsult.se iCalcreator 2.30.10//
CALSCALE:GREGORIAN
METHOD:PUBLISH
UID:72240619-c23c-48fe-b175-d24aeedfaac2
X-WR-CALDESC:Having strong internal controls and understanding the rules go
 verning how you can and cannot spend federal dollars are keys to fiscal ma
 nagement and overall compliance in your organization. \n\nProfessionals ne
 w to the organization\, as well as professionals who have been there for d
 ecades\, will benefit from this two-to-three-day review of the administrat
 ive and cost principles/allocation sections of the Office of Management an
 d Budget's (OMB’s) 2 CFR Part 200 – Uniform Administrative Requirements\, 
 Cost Principles and Audit Requirements for Federal Awards (also known as t
 he “Uniform Guidance”). And if you administer a Head Start/Early Head Star
 t program\, you’ll want to stay for day three when we’ll discuss the lates
 t impacts of the Head Start Act and the Head Start Program Performance Sta
 ndards.  \n\nReview the regulations you need to know to stay in compliance
  through examples\, stories and best practices learned from years of audit
 ing and consulting. You won’t just learn about the regulations but\, more 
 importantly\, you’ll learn how to implement them in your organization imme
 diately.  \n\nWipfli’s nonprofit professionals have been presenting the hi
 ghest-quality training for more than 40 years. Participants declare Wipfli
  training to be “empowering\,” “outstanding\,” “meaningful\,” “invaluable”
  and “relevant.” \n\nDaily schedule\nMay 13\, 2025\n\n7:45-8:30 a.m.      
                           Registration and light refreshments\n\n8:30 a.m.
 -noon                               General provisions and administrative 
 requirements\n\nNoon-1:30 p.m.                               Lunch (on you
 r own)\n\n1:30-5 p.m.                                      Administrative 
 requirements (continued)\n\nMay 14\, 2025\n\n8-8:30 a.m.                  
                     Light refreshments\n\n8:30 a.m.-noon                  
               Cost principles and cost allocation\n\nNoon-1:30 p.m.       
                         Lunch (on your own)\n\n1:30-5 p.m.                
                       Selected items of cost and audit requirements       
                                                 \n\nMay 15\, 2025\n\n8-8:3
 0 a.m.                                       Light refreshments\n\n8:30 a.
 m.-noon                                Overview of the Head Start regulati
 ons\n\nNoon-1:30 p.m.                                Lunch (on your own)\n
 \n1:30-5 p.m.                                       Overview of the Head S
 tart regulations (continued)      \n\nRegistration fee\nEarly-bird rate en
 ds April 12\, 2025\n3 days: $1475 (early bird/$1525 (regular)\n2 days: $10
 00 (early bird)\, $1050 (regular)\n1 days: $525 (early bird) $600 (regular
 )
X-WR-RELCALID:cc0a4ce763f5488ff4c42d7a327561c5
X-WR-TIMEZONE:America/Denver
BEGIN:VTIMEZONE
TZID:America/Denver
BEGIN:STANDARD
TZNAME:MST
DTSTART:20241103T020000
TZOFFSETFROM:-0600
TZOFFSETTO:-0700
RDATE:20251102T020000
RDATE:20261101T020000
END:STANDARD
BEGIN:DAYLIGHT
TZNAME:MDT
DTSTART:20250309T020000
TZOFFSETFROM:-0700
TZOFFSETTO:-0600
RDATE:20260308T020000
END:DAYLIGHT
END:VTIMEZONE
BEGIN:VEVENT
UID:901ecb0c-6301-4c09-83cf-2fdd98e7b6fb
DTSTAMP:20260422T200123Z
DESCRIPTION:Having strong internal controls and understanding the rules gov
 erning how you can and cannot spend federal dollars are keys to fiscal man
 agement and overall compliance in your organization. \n\nProfessionals new
  to the organization\, as well as professionals who have been there for de
 cades\, will benefit from this two-to-three-day review of the administrati
 ve and cost principles/allocation sections of the Office of Management and
  Budget's (OMB’s) 2 CFR Part 200 – Uniform Administrative Requirements\, C
 ost Principles and Audit Requirements for Federal Awards (also known as th
 e “Uniform Guidance”). And if you administer a Head Start/Early Head Start
  program\, you’ll want to stay for day three when we’ll discuss the latest
  impacts of the Head Start Act and the Head Start Program Performance Stan
 dards.  \n\nReview the regulations you need to know to stay in compliance 
 through examples\, stories and best practices learned from years of auditi
 ng and consulting. You won’t just learn about the regulations but\, more i
 mportantly\, you’ll learn how to implement them in your organization immed
 iately.  \n\nWipfli’s nonprofit professionals have been presenting the hig
 hest-quality training for more than 40 years. Participants declare Wipfli 
 training to be “empowering\,” “outstanding\,” “meaningful\,” “invaluable” 
 and “relevant.” \n\nDaily schedule\nMay 13\, 2025\n\n7:45-8:30 a.m.       
                          Registration and light refreshments\n\n8:30 a.m.-
 noon                               General provisions and administrative r
 equirements\n\nNoon-1:30 p.m.                               Lunch (on your
  own)\n\n1:30-5 p.m.                                      Administrative r
 equirements (continued)\n\nMay 14\, 2025\n\n8-8:30 a.m.                   
                    Light refreshments\n\n8:30 a.m.-noon                   
              Cost principles and cost allocation\n\nNoon-1:30 p.m.        
                        Lunch (on your own)\n\n1:30-5 p.m.                 
                      Selected items of cost and audit requirements        
                                                \n\nMay 15\, 2025\n\n8-8:30
  a.m.                                       Light refreshments\n\n8:30 a.m
 .-noon                                Overview of the Head Start regulatio
 ns\n\nNoon-1:30 p.m.                                Lunch (on your own)\n
 \n1:30-5 p.m.                                       Overview of the Head S
 tart regulations (continued)      \n\nRegistration fee\nEarly-bird rate en
 ds April 12\, 2025\n3 days: $1475 (early bird/$1525 (regular)\n2 days: $10
 00 (early bird)\, $1050 (regular)\n1 days: $525 (early bird) $600 (regular
 )
DTSTART;TZID=America/Denver:20250513T040000
DTEND;TZID=America/Denver:20250515T040001
LOCATION:The Westin Portland Harborview\, 157 High Street\, Portland\, ME 0
 4101 US
SUMMARY:WIPFLI - In-depth training on OMB's Uniform Guidance plus overview 
 of the Head Start regulations (In Person)
END:VEVENT
END:VCALENDAR
