BEGIN:VCALENDAR
VERSION:2.0
PRODID:-//caputah.org//NONSGML kigkonsult.se iCalcreator 2.30.10//
CALSCALE:GREGORIAN
METHOD:PUBLISH
UID:091e8402-ab5c-4a8b-b5f7-5c735fc08abe
X-WR-CALDESC:Has it been a while since you took a close look at your employ
 ee and volunteer screening? Learn how the screening field is evolving and 
 how your organization can build a fair and thorough process to select indi
 viduals who fit your organization’s needs.
X-WR-RELCALID:3992d105e8ca4ca7a8ae4c3e48beb5b1
X-WR-TIMEZONE:America/Denver
BEGIN:VTIMEZONE
TZID:America/Denver
BEGIN:STANDARD
TZNAME:MST
DTSTART:20241103T020000
TZOFFSETFROM:-0600
TZOFFSETTO:-0700
RDATE:20251102T020000
RDATE:20261101T020000
END:STANDARD
BEGIN:DAYLIGHT
TZNAME:MDT
DTSTART:20250309T020000
TZOFFSETFROM:-0700
TZOFFSETTO:-0600
RDATE:20260308T020000
END:DAYLIGHT
END:VTIMEZONE
BEGIN:VEVENT
UID:2790b2f0-5d32-440d-8c99-04198123be53
DTSTAMP:20260422T181925Z
DESCRIPTION:Has it been a while since you took a close look at your employe
 e and volunteer screening? Learn how the screening field is evolving and h
 ow your organization can build a fair and thorough process to select indiv
 iduals who fit your organization’s needs.
DTSTART;TZID=America/Denver:20250514T120000
DTEND;TZID=America/Denver:20250514T130000
LOCATION:https://us02web.zoom.us/webinar/register/WN_j2JnozATTPeIue9ZaI6WWg
 #/registration
SUMMARY:NRMC - Employee and Volunteer Screening: What You Need to Know
END:VEVENT
END:VCALENDAR
