BEGIN:VCALENDAR
VERSION:2.0
PRODID:-//caputah.org//NONSGML kigkonsult.se iCalcreator 2.30.10//
CALSCALE:GREGORIAN
METHOD:PUBLISH
UID:7c3cc9ff-483b-4541-b36d-958ffca470dd
X-WR-CALDESC:Please join the National Council of Nonprofits for an informat
 ional webinar for nonprofits on responding to federal grant cancellations.
  The webinar will cover how grants are being cancelled\, steps grantees sh
 ould take to prepare for the risk of cancellation\, and considerations for
  organizations after cancellation. The NCN Public Policy team will also sh
 are actions that you can take now to advocate for your nonprofit organizat
 ions. \n \nThe presentation will be provided by Amanda Fuchs Miller\, Pres
 ident of Seventh Street Strategies. Amanda has more than three decades of 
 experience working inside and outside of government. As President of Seven
 th Street Strategies\, she works with nonprofit organizations\, foundation
 s\, and higher education institutions to provide advocacy\, policy\, overs
 ight\, and communications support. She previously served as the Deputy Ass
 istant Secretary for Higher Education Programs at the U.S. Department of E
 ducation in the Biden-Harris Administration and in senior roles in the U.S
 . Senate. You can learn more about her work at www.seventhstreetstrategies
 .com\n\nNOTE: This webinar will not be recorded. We also expect overwhelmi
 ng interest in this session\, so please only register if you will be able 
 to join the live event so we can make as many lines available as possible.
  Thank you!
X-WR-RELCALID:80345ff19e6eaf6afdb19af5ac61384b
X-WR-TIMEZONE:America/Denver
BEGIN:VTIMEZONE
TZID:America/Denver
BEGIN:STANDARD
TZNAME:MST
DTSTART:20241103T020000
TZOFFSETFROM:-0600
TZOFFSETTO:-0700
RDATE:20251102T020000
RDATE:20261101T020000
END:STANDARD
BEGIN:DAYLIGHT
TZNAME:MDT
DTSTART:20250309T020000
TZOFFSETFROM:-0700
TZOFFSETTO:-0600
RDATE:20260308T020000
END:DAYLIGHT
END:VTIMEZONE
BEGIN:VEVENT
UID:138d4733-3a08-4225-b5e8-29c111c733a4
DTSTAMP:20260422T182259Z
DESCRIPTION:Please join the National Council of Nonprofits for an informati
 onal webinar for nonprofits on responding to federal grant cancellations. 
 The webinar will cover how grants are being cancelled\, steps grantees sho
 uld take to prepare for the risk of cancellation\, and considerations for 
 organizations after cancellation. The NCN Public Policy team will also sha
 re actions that you can take now to advocate for your nonprofit organizati
 ons. \n \nThe presentation will be provided by Amanda Fuchs Miller\, Presi
 dent of Seventh Street Strategies. Amanda has more than three decades of e
 xperience working inside and outside of government. As President of Sevent
 h Street Strategies\, she works with nonprofit organizations\, foundations
 \, and higher education institutions to provide advocacy\, policy\, oversi
 ght\, and communications support. She previously served as the Deputy Assi
 stant Secretary for Higher Education Programs at the U.S. Department of Ed
 ucation in the Biden-Harris Administration and in senior roles in the U.S.
  Senate. You can learn more about her work at www.seventhstreetstrategies.
 com\n\nNOTE: This webinar will not be recorded. We also expect overwhelmin
 g interest in this session\, so please only register if you will be able t
 o join the live event so we can make as many lines available as possible. 
 Thank you!
DTSTART;TZID=America/Denver:20250519T133000
DTEND;TZID=America/Denver:20250519T143000
LOCATION:https://us02web.zoom.us/webinar/register/WN_Bsxqj6iCRlygjwJH7fyJnA
 #/registration
SUMMARY:UNA - Unprecedented Cancellations of Federal Grants: What Nonprofit
 s Should Do to Prepare and Respond
END:VEVENT
END:VCALENDAR
