BEGIN:VCALENDAR
VERSION:2.0
PRODID:-//caputah.org//NONSGML kigkonsult.se iCalcreator 2.30.10//
CALSCALE:GREGORIAN
METHOD:PUBLISH
UID:b916d672-f279-4233-bd2a-e4c0f5f8c0b7
X-WR-CALDESC:Join us on May 21st for an engaging webinar introducing the Gr
 owing the Weatherization Workforce Through Service Year Partnerships Toolk
 it. Developed by the National Renewable Energy Laboratory and Service Year
  Alliance\, this innovative resource is designed to help WAP Grantees and 
 Subgrantees create talent pipelines and enhance their agency’s capacity by
  leveraging Service Year programming. During the session\, presenters will
  provide an in-depth overview of the toolkit’s contents and practical insi
 ghts and examples of the four distinct ways that WAP agencies can strength
 en their workforce through service year partnerships. Attendees will also 
 receive a walkthrough of how GreenWorkforceConnect.org can also be utilize
 d to help their agency connect to talent pipeline partners within their se
 rvice area. Don’t miss this opportunity to learn how to unlock new possibi
 lities for your agency!
X-WR-RELCALID:2216f74f14d904808c22887bddec8e04
X-WR-TIMEZONE:America/Denver
BEGIN:VTIMEZONE
TZID:America/Denver
BEGIN:STANDARD
TZNAME:MST
DTSTART:20241103T020000
TZOFFSETFROM:-0600
TZOFFSETTO:-0700
RDATE:20251102T020000
RDATE:20261101T020000
END:STANDARD
BEGIN:DAYLIGHT
TZNAME:MDT
DTSTART:20250309T020000
TZOFFSETFROM:-0700
TZOFFSETTO:-0600
RDATE:20260308T020000
END:DAYLIGHT
END:VTIMEZONE
BEGIN:VEVENT
UID:5bd1ecde-bcd7-4891-96ee-bb7df2670b52
DTSTAMP:20260422T181152Z
DESCRIPTION:Join us on May 21st for an engaging webinar introducing the Gro
 wing the Weatherization Workforce Through Service Year Partnerships Toolki
 t. Developed by the National Renewable Energy Laboratory and Service Year 
 Alliance\, this innovative resource is designed to help WAP Grantees and S
 ubgrantees create talent pipelines and enhance their agency’s capacity by 
 leveraging Service Year programming. During the session\, presenters will 
 provide an in-depth overview of the toolkit’s contents and practical insig
 hts and examples of the four distinct ways that WAP agencies can strengthe
 n their workforce through service year partnerships. Attendees will also r
 eceive a walkthrough of how GreenWorkforceConnect.org can also be utilized
  to help their agency connect to talent pipeline partners within their ser
 vice area. Don’t miss this opportunity to learn how to unlock new possibil
 ities for your agency!
DTSTART;TZID=America/Denver:20250521T130000
DTEND;TZID=America/Denver:20250521T140000
LOCATION:https://communityactionpartnership.zoom.us/webinar/register/WN_atM
 pkMvmQrW4B9XidpLfUQ#/registration
SUMMARY:NCAP - Growing the Weatherization Workforce
END:VEVENT
END:VCALENDAR
