BEGIN:VCALENDAR
VERSION:2.0
PRODID:-//caputah.org//NONSGML kigkonsult.se iCalcreator 2.30.10//
CALSCALE:GREGORIAN
METHOD:PUBLISH
UID:6d90b703-e391-4741-8e9a-5793f666f3e3
X-WR-CALDESC:In the nonprofit world\, outcomes are everything. Funders want
  results\, communities deserve impact\, and you need to show the differenc
 e you’re making—but how?\n\nThe Nonprofit Credential in Outcomes and Evalu
 ations gives you the skills to measure what truly matters. Learn how to tu
 rn numbers into stories\, insights into action\, and outcomes into confide
 nce. With the right tools to analyze\, track\, and communicate your impact
 \, you'll build trust with stakeholders\, inspire your team\, and attract 
 the funding you need to keep changing lives.\n\nWhat you'll takeaway:\n\nD
 efine your intended impact and create strategies to achieve results\nIdent
 ify the right metrics to track your activities\, outputs\, and outcomes\nB
 uild an evaluation plan that evolves with your organization\nAdapt your da
 ta collection and reporting strategy\nDrive results with proven value\, an
 d show the power of your mission.\n\nUpon completion\, your organization w
 ill earn the Nonprofit Credential Outcomes and Evaluations Badge\, a mark 
 of excellence to share with your network and show the world you’re serious
  about making an impact.\n\nLearn more about the Nonprofit Credential in O
 utcomes and Evaluations.\n\nCost\nUNA Members: $180 for the first person/$
 40 for each additional participant\nNot-Yet-Members: $360 for the first pe
 rson/$80 for each additional participant\n\nCourse Dates\nSessions\nDay 1:
  Wednesday\, May 21\, 2025 | 9:30 AM to 3:30 PM\nDay 2:  Thursday\, May 22
 \, 2025 | 9:30 AM to 3:30 PM\n\nOrganizational Consultation\n40-minute con
 sult on Wednesday\, June 25 or Thursday\, June 26\, 2025
X-WR-RELCALID:c726ed005ced626613a337437ae707b0
X-WR-TIMEZONE:America/Denver
BEGIN:VTIMEZONE
TZID:America/Denver
BEGIN:STANDARD
TZNAME:MST
DTSTART:20241103T020000
TZOFFSETFROM:-0600
TZOFFSETTO:-0700
RDATE:20251102T020000
RDATE:20261101T020000
END:STANDARD
BEGIN:DAYLIGHT
TZNAME:MDT
DTSTART:20250309T020000
TZOFFSETFROM:-0700
TZOFFSETTO:-0600
RDATE:20260308T020000
END:DAYLIGHT
END:VTIMEZONE
BEGIN:VEVENT
UID:82146894-8cfb-49de-89c5-5595c6a4c4e1
DTSTAMP:20260422T200044Z
DESCRIPTION:In the nonprofit world\, outcomes are everything. Funders want 
 results\, communities deserve impact\, and you need to show the difference
  you’re making—but how?\n\nThe Nonprofit Credential in Outcomes and Evalua
 tions gives you the skills to measure what truly matters. Learn how to tur
 n numbers into stories\, insights into action\, and outcomes into confiden
 ce. With the right tools to analyze\, track\, and communicate your impact\
 , you'll build trust with stakeholders\, inspire your team\, and attract t
 he funding you need to keep changing lives.\n\nWhat you'll takeaway:\n\nDe
 fine your intended impact and create strategies to achieve results\nIdenti
 fy the right metrics to track your activities\, outputs\, and outcomes\nBu
 ild an evaluation plan that evolves with your organization\nAdapt your dat
 a collection and reporting strategy\nDrive results with proven value\, and
  show the power of your mission.\n\nUpon completion\, your organization wi
 ll earn the Nonprofit Credential Outcomes and Evaluations Badge\, a mark o
 f excellence to share with your network and show the world you’re serious 
 about making an impact.\n\nLearn more about the Nonprofit Credential in Ou
 tcomes and Evaluations.\n\nCost\nUNA Members: $180 for the first person/$4
 0 for each additional participant\nNot-Yet-Members: $360 for the first per
 son/$80 for each additional participant\n\nCourse Dates\nSessions\nDay 1: 
 Wednesday\, May 21\, 2025 | 9:30 AM to 3:30 PM\nDay 2:  Thursday\, May 22\
 , 2025 | 9:30 AM to 3:30 PM\n\nOrganizational Consultation\n40-minute cons
 ult on Wednesday\, June 25 or Thursday\, June 26\, 2025
DTSTART;TZID=America/Denver:20250521T040000
DTEND;TZID=America/Denver:20250522T040001
LOCATION:https://members.utahnonprofits.org/ap/Events/Register/ZRF6OaMfgCeC
 2
SUMMARY:UNA - 2025 Nonprofit Credential in Outcomes and Evaluations
END:VEVENT
END:VCALENDAR
