BEGIN:VCALENDAR
VERSION:2.0
PRODID:-//caputah.org//NONSGML kigkonsult.se iCalcreator 2.30.10//
CALSCALE:GREGORIAN
METHOD:PUBLISH
UID:4af3199d-7dd1-4829-a5d5-6caed40b37e6
X-WR-CALDESC:You are invited to a free MiniConfab centered on you\, your no
 nprofit\, and your community in Ogden and the Northern Utah area. You’ll l
 eave with an expanded network\, new insights and resources\, and deep appr
 eciation for the incredible impact that nonprofits have in Ogden\, Weber C
 ounty and beyond.  \n\nThe MiniConfab starts with a peer learning experien
 ce (Community Circles)\, followed by training on nonprofit fundraising and
  sustainability. We will conclude our time together with an intentional ne
 tworking reception. Join us for all or part of this event—created just for
  you!    \n\nSpace is limited\, so register today!\n\nWhat to Expect:\n2:0
 0 PM - 2:15 PM: Registration\n2:15 PM - 3:30 PM: Community Circle Break Ou
 t Sessions\n3:30 PM - 4:15 PM: Training\n4:15 PM - 5:00 PM: Networking Rec
 eption\n\nLight refreshments will be served. Don't forget your business ca
 rds!\n\n\n\nWhy Attend?\nGet connected\, receive expert training\, meet ne
 w people\, and/or reconnect with those you have not seen in a while\n\nWho
  Should Attend?  \nAll staff\, board members\, and those who care about no
 nprofits. \n\nSpace is limited to 30 people. If the event is full\, then w
 e will be happy to add you to the waiting list.
X-WR-RELCALID:0558a1db87604bccb68394bb47137429
X-WR-TIMEZONE:America/Denver
BEGIN:VTIMEZONE
TZID:America/Denver
BEGIN:STANDARD
TZNAME:MST
DTSTART:20241103T020000
TZOFFSETFROM:-0600
TZOFFSETTO:-0700
RDATE:20251102T020000
RDATE:20261101T020000
END:STANDARD
BEGIN:DAYLIGHT
TZNAME:MDT
DTSTART:20250309T020000
TZOFFSETFROM:-0700
TZOFFSETTO:-0600
RDATE:20260308T020000
END:DAYLIGHT
END:VTIMEZONE
BEGIN:VEVENT
UID:946ca15b-ca03-4b49-bbb2-f086502dd836
DTSTAMP:20260422T181639Z
DESCRIPTION:You are invited to a free MiniConfab centered on you\, your non
 profit\, and your community in Ogden and the Northern Utah area. You’ll le
 ave with an expanded network\, new insights and resources\, and deep appre
 ciation for the incredible impact that nonprofits have in Ogden\, Weber Co
 unty and beyond.  \n\nThe MiniConfab starts with a peer learning experienc
 e (Community Circles)\, followed by training on nonprofit fundraising and 
 sustainability. We will conclude our time together with an intentional net
 working reception. Join us for all or part of this event—created just for 
 you!    \n\nSpace is limited\, so register today!\n\nWhat to Expect:\n2:00
  PM - 2:15 PM: Registration\n2:15 PM - 3:30 PM: Community Circle Break Out
  Sessions\n3:30 PM - 4:15 PM: Training\n4:15 PM - 5:00 PM: Networking Rece
 ption\n\nLight refreshments will be served. Don't forget your business car
 ds!\n\n\n\nWhy Attend?\nGet connected\, receive expert training\, meet new
  people\, and/or reconnect with those you have not seen in a while\n\nWho 
 Should Attend?  \nAll staff\, board members\, and those who care about non
 profits. \n\nSpace is limited to 30 people. If the event is full\, then we
  will be happy to add you to the waiting list.
DTSTART;TZID=America/Denver:20250522T140000
DTEND;TZID=America/Denver:20250522T170000
LOCATION:United Way of Northern Utah\, 2955 Harrison Blvd.\, Suite 201\, Og
 den\, UT 84403 US
SUMMARY:UNA - MiniConfab: Northern Utah (Ogden)
END:VEVENT
END:VCALENDAR
