BEGIN:VCALENDAR
VERSION:2.0
PRODID:-//caputah.org//NONSGML kigkonsult.se iCalcreator 2.30.10//
CALSCALE:GREGORIAN
METHOD:PUBLISH
UID:994c155f-50cf-4e9b-8e9e-6e4006215237
X-WR-CALDESC:This session will help organizations leaders learn to use tool
 s to manage finances in every changing environment.  In this session we wi
 ll learn to take budgets to forecasts and use the forecast model to timely
  understand and react to data.  Using this information\, you can be proact
 ive about making educated decisions to steer your organization to success.
 \n\nAdvanced preparation: None\nLevel: Overview\nPrerequisite: None\nField
  of study: Accounting\nCPE: 1.5 credits\n\nLearning Objectives\n\n1.      
      Discuss ways to utilize budgets and forecasting to react to changing 
 finances.\n\n2.           Examine a real-life example and see how to use t
 ips learned. \n\n3.            Identify areas where forecasting could adju
 st through change.
X-WR-RELCALID:13e04df12750f69e152753a62c991eb7
X-WR-TIMEZONE:America/Denver
BEGIN:VTIMEZONE
TZID:America/Denver
BEGIN:STANDARD
TZNAME:MST
DTSTART:20241103T020000
TZOFFSETFROM:-0600
TZOFFSETTO:-0700
RDATE:20251102T020000
RDATE:20261101T020000
END:STANDARD
BEGIN:DAYLIGHT
TZNAME:MDT
DTSTART:20250309T020000
TZOFFSETFROM:-0700
TZOFFSETTO:-0600
RDATE:20260308T020000
END:DAYLIGHT
END:VTIMEZONE
BEGIN:VEVENT
UID:c5b6a442-7ba1-4194-963d-726ce9e020d5
DTSTAMP:20260422T181930Z
DESCRIPTION:This session will help organizations leaders learn to use tools
  to manage finances in every changing environment.  In this session we wil
 l learn to take budgets to forecasts and use the forecast model to timely 
 understand and react to data.  Using this information\, you can be proacti
 ve about making educated decisions to steer your organization to success.
 \n\nAdvanced preparation: None\nLevel: Overview\nPrerequisite: None\nField
  of study: Accounting\nCPE: 1.5 credits\n\nLearning Objectives\n\n1.      
      Discuss ways to utilize budgets and forecasting to react to changing 
 finances.\n\n2.           Examine a real-life example and see how to use t
 ips learned. \n\n3.            Identify areas where forecasting could adju
 st through change.
DTSTART;TZID=America/Denver:20250527T130000
DTEND;TZID=America/Denver:20250527T143000
LOCATION:https://gfponline.wipfli.com/Shared_Content/Events/Event_Display.a
 spx?EventKey=WB052725&WebsiteKey=af6c1982-e96d-465e-ae30-fce5959931b5
SUMMARY:WIPFLI - Managing Your Organization’s Finances in Uncertain Times
END:VEVENT
END:VCALENDAR
