BEGIN:VCALENDAR
VERSION:2.0
PRODID:-//caputah.org//NONSGML kigkonsult.se iCalcreator 2.30.10//
CALSCALE:GREGORIAN
METHOD:PUBLISH
UID:4775139c-7f20-4c9c-af4d-905c91e2dda3
X-WR-CALDESC:For new leaders in federally funded programs\, understanding t
 he money side is imperative. New leaders coming to this session will explo
 re the many areas of fiscal responsibility. We will discuss the basics and
  the complex issues and explore what to look for and the questions to ask.
 \nOnline event registration closes 1 hour prior to the start of the traini
 ng.  Please email trainings@wipfli.com to register.\n\nWhen you register\,
  please enter the email address of the attendee\, not the person completin
 g the registration.\n\nFEE: $150. Wipfli accepts AmEx\, Discover\, Visa an
 d Mastercard.\n\nWhat a New Executive Director Needs to Know About Finance
  Advanced Preparation: None\; Level: Basic\; Prerequisite: None\; Field of
  Study: Accounting.\n\nLearning Objectives:\n\n1. Review roles and respons
 ibilities as they relate to finances.\n\n2. Discover ways to work with fin
 ance effectively.\n\n3. Discover that fiscal responsibility is more than j
 ust the financial statements.
X-WR-RELCALID:872f6491a85ae47e996fca03f6d7cbed
X-WR-TIMEZONE:America/Denver
BEGIN:VTIMEZONE
TZID:America/Denver
BEGIN:STANDARD
TZNAME:MST
DTSTART:20241103T020000
TZOFFSETFROM:-0600
TZOFFSETTO:-0700
RDATE:20251102T020000
RDATE:20261101T020000
END:STANDARD
BEGIN:DAYLIGHT
TZNAME:MDT
DTSTART:20250309T020000
TZOFFSETFROM:-0700
TZOFFSETTO:-0600
RDATE:20260308T020000
END:DAYLIGHT
END:VTIMEZONE
BEGIN:VEVENT
UID:d96c5454-51ff-405a-b623-d19963b79d09
DTSTAMP:20260422T181828Z
DESCRIPTION:For new leaders in federally funded programs\, understanding th
 e money side is imperative. New leaders coming to this session will explor
 e the many areas of fiscal responsibility. We will discuss the basics and 
 the complex issues and explore what to look for and the questions to ask.
 \nOnline event registration closes 1 hour prior to the start of the traini
 ng.  Please email trainings@wipfli.com to register.\n\nWhen you register\,
  please enter the email address of the attendee\, not the person completin
 g the registration.\n\nFEE: $150. Wipfli accepts AmEx\, Discover\, Visa an
 d Mastercard.\n\nWhat a New Executive Director Needs to Know About Finance
  Advanced Preparation: None\; Level: Basic\; Prerequisite: None\; Field of
  Study: Accounting.\n\nLearning Objectives:\n\n1. Review roles and respons
 ibilities as they relate to finances.\n\n2. Discover ways to work with fin
 ance effectively.\n\n3. Discover that fiscal responsibility is more than j
 ust the financial statements.
DTSTART;TZID=America/Denver:20250527T090000
DTEND;TZID=America/Denver:20250527T103000
LOCATION:https://gfponline.wipfli.com/Shared_Content/Events/Event_Display.a
 spx?EventKey=WB052725A&WebsiteKey=af6c1982-e96d-465e-ae30-fce5959931b5
SUMMARY:WIPFLI - What a New Executive Director Needs to Know About Finance
END:VEVENT
END:VCALENDAR
