BEGIN:VCALENDAR
VERSION:2.0
PRODID:-//caputah.org//NONSGML kigkonsult.se iCalcreator 2.30.10//
CALSCALE:GREGORIAN
METHOD:PUBLISH
UID:37e344e7-2e0c-4ad9-86a5-74403ac57e20
X-WR-CALDESC:Join us for an engaging Whole Family Approach Practitioners' R
 oundtable\, a dynamic webinar designed for Community Action Agencies imple
 menting the Whole Family Approach. Participants will hear updates on new W
 hole Family Approach resources and have the opportunity to share their exp
 eriences\, challenges\, and best practices with peers from across the coun
 try. This roundtable serves as a collaborative space to discuss operationa
 l hurdles\, explore innovative solutions\, and inform future resource deve
 lopment.\nWhether you are new to the Whole Family Approach or a seasoned p
 ractitioner\, your insights are valuable in shaping the ongoing efforts to
  empower families and communities. Don’t miss this chance to connect\, lea
 rn\, and contribute to the future of Whole Family Approach programming.
X-WR-RELCALID:b6ab572662fe37d723950110f17d1452
X-WR-TIMEZONE:America/Denver
BEGIN:VTIMEZONE
TZID:America/Denver
BEGIN:STANDARD
TZNAME:MST
DTSTART:20241103T020000
TZOFFSETFROM:-0600
TZOFFSETTO:-0700
RDATE:20251102T020000
RDATE:20261101T020000
END:STANDARD
BEGIN:DAYLIGHT
TZNAME:MDT
DTSTART:20250309T020000
TZOFFSETFROM:-0700
TZOFFSETTO:-0600
RDATE:20260308T020000
END:DAYLIGHT
END:VTIMEZONE
BEGIN:VEVENT
UID:00c0eec0-87c9-4a59-83f7-d244f477cdf3
DTSTAMP:20260422T181503Z
DESCRIPTION:Join us for an engaging Whole Family Approach Practitioners' Ro
 undtable\, a dynamic webinar designed for Community Action Agencies implem
 enting the Whole Family Approach. Participants will hear updates on new Wh
 ole Family Approach resources and have the opportunity to share their expe
 riences\, challenges\, and best practices with peers from across the count
 ry. This roundtable serves as a collaborative space to discuss operational
  hurdles\, explore innovative solutions\, and inform future resource devel
 opment.\nWhether you are new to the Whole Family Approach or a seasoned pr
 actitioner\, your insights are valuable in shaping the ongoing efforts to 
 empower families and communities. Don’t miss this chance to connect\, lear
 n\, and contribute to the future of Whole Family Approach programming.
DTSTART;TZID=America/Denver:20250528T120000
DTEND;TZID=America/Denver:20250528T130000
LOCATION:https://communityactionpartnership.zoom.us/webinar/register/WN_jco
 FDFJUTFKkFSFBYMQMIg#/registration
SUMMARY:NCAP - Whole Family Approach Practitioners' Roundtable
END:VEVENT
END:VCALENDAR
