BEGIN:VCALENDAR
VERSION:2.0
PRODID:-//caputah.org//NONSGML kigkonsult.se iCalcreator 2.30.10//
CALSCALE:GREGORIAN
METHOD:PUBLISH
UID:31843bd0-06fb-46b9-827e-eda91dabbb43
X-WR-CALDESC:Davis-Bacon Act compliance is an often misunderstood requireme
 nt for Head Start organizations. There is little in the way of official gu
 idance\, and what is available can at times be contradictory. There are gu
 idelines from the U.S. Department of Health and Human Services as well as 
 requirements enforced by the U.S. Department of Labor to be considered.\nO
 nline event registration closes 1 hour prior to the start of the training.
   Please email trainings@wipfli.com to register.\n\nWhen you register\, pl
 ease enter the email address of the attendee\, not the person completing t
 he registration.\n\nFEE: $150. Wipfli accepts AmEx\, Discover\, Visa and M
 astercard.\n\nLearning Objectives:\n\n1. Identify the Head Start projects 
 to which Davis-Bacon applies.\n\n2. Discuss the compliance requirements\, 
 prevailing wages\, and the fringe benefit component.\n\n3. Explore the ste
 ps you can take to monitor compliance.
X-WR-RELCALID:5fd47e95fa3dca5dc4df66965188fbc8
X-WR-TIMEZONE:America/Denver
BEGIN:VTIMEZONE
TZID:America/Denver
BEGIN:STANDARD
TZNAME:MST
DTSTART:20241103T020000
TZOFFSETFROM:-0600
TZOFFSETTO:-0700
RDATE:20251102T020000
RDATE:20261101T020000
END:STANDARD
BEGIN:DAYLIGHT
TZNAME:MDT
DTSTART:20250309T020000
TZOFFSETFROM:-0700
TZOFFSETTO:-0600
RDATE:20260308T020000
END:DAYLIGHT
END:VTIMEZONE
BEGIN:VEVENT
UID:060282f5-0d35-428e-9887-04f1a6c41001
DTSTAMP:20260422T195006Z
DESCRIPTION:Davis-Bacon Act compliance is an often misunderstood requiremen
 t for Head Start organizations. There is little in the way of official gui
 dance\, and what is available can at times be contradictory. There are gui
 delines from the U.S. Department of Health and Human Services as well as r
 equirements enforced by the U.S. Department of Labor to be considered.\nOn
 line event registration closes 1 hour prior to the start of the training. 
  Please email trainings@wipfli.com to register.\n\nWhen you register\, ple
 ase enter the email address of the attendee\, not the person completing th
 e registration.\n\nFEE: $150. Wipfli accepts AmEx\, Discover\, Visa and Ma
 stercard.\n\nLearning Objectives:\n\n1. Identify the Head Start projects t
 o which Davis-Bacon applies.\n\n2. Discuss the compliance requirements\, p
 revailing wages\, and the fringe benefit component.\n\n3. Explore the step
 s you can take to monitor compliance.
DTSTART;TZID=America/Denver:20250529T090000
DTEND;TZID=America/Denver:20250529T103000
LOCATION:https://gfponline.wipfli.com/Shared_Content/Events/Event_Display.a
 spx?EventKey=WB052925&WebsiteKey=af6c1982-e96d-465e-ae30-fce5959931b5
SUMMARY:WIPFLI - Davis-Bacon for Head Start/Early Head Start Agencies
END:VEVENT
END:VCALENDAR
