BEGIN:VCALENDAR
VERSION:2.0
PRODID:-//caputah.org//NONSGML kigkonsult.se iCalcreator 2.30.10//
CALSCALE:GREGORIAN
METHOD:PUBLISH
UID:d1952a95-081b-4564-a0f1-c5622ea41d26
X-WR-CALDESC:Grant-funded accounting is not always easy. Often times agenci
 es have multiple funding sources\, with multiple grant year ends\, plus th
 e agency’s fiscal year. This formula makes producing budget to actual repo
 rts (and other reports) difficult. Please join this high level session whe
 re we build a fiscal and program point of view of: • The Cycle of Grants M
 anagement • Process to Manage Grants • Grant Reporting • Grant Close Out\n
 Online event registration closes 1 hour prior to the start of the training
 .  Please email trainings@wipfli.com to register.\n\nWhen you register\, p
 lease enter the email address of the attendee\, not the person completing 
 the registration.\n\nFEE: $150. Wipfli accepts AmEx\, Discover\, Visa and 
 Mastercard.\n\nGrant-Funded Accounting 101: Advanced Preparation: None\; L
 evel: Basic\; Prerequisite: None\; Field of Study: Accounting (Governmenta
 l\n\nLearning Objectives:\n\n1. Highlight what makes fund accounting uniqu
 e and complex.\n\n2. Discuss a fund accounting vocabulary.\n\n3. Explore b
 est practices with grant-funded accounting.
X-WR-RELCALID:5b34ac3196144d38c2ad8ac6e13a3760
X-WR-TIMEZONE:America/Denver
BEGIN:VTIMEZONE
TZID:America/Denver
BEGIN:STANDARD
TZNAME:MST
DTSTART:20241103T020000
TZOFFSETFROM:-0600
TZOFFSETTO:-0700
RDATE:20251102T020000
RDATE:20261101T020000
END:STANDARD
BEGIN:DAYLIGHT
TZNAME:MDT
DTSTART:20250309T020000
TZOFFSETFROM:-0700
TZOFFSETTO:-0600
RDATE:20260308T020000
END:DAYLIGHT
END:VTIMEZONE
BEGIN:VEVENT
UID:fa933eab-17f4-4ed1-a0c6-ec113779bc88
DTSTAMP:20260422T181503Z
DESCRIPTION:Grant-funded accounting is not always easy. Often times agencie
 s have multiple funding sources\, with multiple grant year ends\, plus the
  agency’s fiscal year. This formula makes producing budget to actual repor
 ts (and other reports) difficult. Please join this high level session wher
 e we build a fiscal and program point of view of: • The Cycle of Grants Ma
 nagement • Process to Manage Grants • Grant Reporting • Grant Close Out\nO
 nline event registration closes 1 hour prior to the start of the training.
   Please email trainings@wipfli.com to register.\n\nWhen you register\, pl
 ease enter the email address of the attendee\, not the person completing t
 he registration.\n\nFEE: $150. Wipfli accepts AmEx\, Discover\, Visa and M
 astercard.\n\nGrant-Funded Accounting 101: Advanced Preparation: None\; Le
 vel: Basic\; Prerequisite: None\; Field of Study: Accounting (Governmental
 \n\nLearning Objectives:\n\n1. Highlight what makes fund accounting unique
  and complex.\n\n2. Discuss a fund accounting vocabulary.\n\n3. Explore be
 st practices with grant-funded accounting.
DTSTART;TZID=America/Denver:20250529T130000
DTEND;TZID=America/Denver:20250529T143000
LOCATION:https://gfponline.wipfli.com/Shared_Content/Events/Event_Display.a
 spx?EventKey=WB052925A&WebsiteKey=af6c1982-e96d-465e-ae30-fce5959931b5
SUMMARY:WIPFLI - Grant-funded accounting 101
END:VEVENT
END:VCALENDAR
