BEGIN:VCALENDAR
VERSION:2.0
PRODID:-//caputah.org//NONSGML kigkonsult.se iCalcreator 2.30.10//
CALSCALE:GREGORIAN
METHOD:PUBLISH
UID:cfdf506b-646d-4313-a614-59db09d9ee3a
X-WR-CALDESC:Our conference brings together leaders of Community Action Age
 ncies and other grant-funded organizations across the country to navigate 
 the legal and governance challenges they face as they deliver essential se
 rvices in their communities. Learn from attorneys\, accountants\, network 
 leaders\, as well as your peers to increase your organizational capacity f
 or effectiveness and accountability. Walk away from this 3-day conference 
 with essential skills and knowledge to apply to the important work you do 
 each day.\n\nEarly Bird Rate: $725\nRegistration Opens in February.
X-WR-RELCALID:6de634e8b3c74c3de8119454cfcbf629
X-WR-TIMEZONE:America/Denver
BEGIN:VTIMEZONE
TZID:America/Denver
BEGIN:STANDARD
TZNAME:MST
DTSTART:20241103T020000
TZOFFSETFROM:-0600
TZOFFSETTO:-0700
RDATE:20251102T020000
RDATE:20261101T020000
END:STANDARD
BEGIN:DAYLIGHT
TZNAME:MDT
DTSTART:20250309T020000
TZOFFSETFROM:-0700
TZOFFSETTO:-0600
RDATE:20260308T020000
END:DAYLIGHT
END:VTIMEZONE
BEGIN:VEVENT
UID:c9d43af3-a3c6-4e4b-af0e-1eead3f18e69
DTSTAMP:20260422T181258Z
DESCRIPTION:Our conference brings together leaders of Community Action Agen
 cies and other grant-funded organizations across the country to navigate t
 he legal and governance challenges they face as they deliver essential ser
 vices in their communities. Learn from attorneys\, accountants\, network l
 eaders\, as well as your peers to increase your organizational capacity fo
 r effectiveness and accountability. Walk away from this 3-day conference w
 ith essential skills and knowledge to apply to the important work you do e
 ach day.\n\nEarly Bird Rate: $725\nRegistration Opens in February.
DTSTART;TZID=America/Denver:20250528T040000
DTEND;TZID=America/Denver:20250530T040001
LOCATION:Sheraton Copley\, 39 Dalton St\, Boston\, MA 02199 US
SUMMARY:CAPLAW - National Training Conference
END:VEVENT
END:VCALENDAR
