BEGIN:VCALENDAR
VERSION:2.0
PRODID:-//caputah.org//NONSGML kigkonsult.se iCalcreator 2.30.10//
CALSCALE:GREGORIAN
METHOD:PUBLISH
UID:75ddc736-3117-40b0-bf1b-b48c0bd470da
X-WR-CALDESC:This series is designed specifically for professionals that ar
 e looking to develop and strengthen their core competencies on grant accou
 nting and finance.  The need for financial compliance is critical within f
 ederally grant-funded nonprofits\, as is being able to navigate the comple
 xities of federal grant awards.  More than ever\, financial departments ar
 e in need of a trusted advisor to provide support\, training\, and guidanc
 e to build stronger financial operations.  Wipfli is responding to this ne
 ed by using it's 40+ years of experience in grant-funded experience and in
 -depth understanding of current trends and best practices by offering an 8
 -week\, virtual cohort program\, that will allow individuals to form stron
 g and lasting professional connections and to engage with the instructors 
 and peers.\nLearning Objectives: 1) Discuss practical grant accounting con
 cepts within your role.  2) Explore examples of internal controls\, cost a
 llocation\, grant management\, reporting\, and other core financial topics
 .  3) Equip individuals with knowledge and tools to identify financial pro
 cess best practices.\n\nAdvanced preparation: None\nLevel: Overview\nPrere
 quisite: None\nField of study: Accounting (Governmental)\nCPE: up to 16 cr
 edits\n\n \n\nSchedule:\n\n05/07/2025 - New to the Grant Granted World? \n
 \n05/14/2025 - Grant Management 101? \n\n05/21/2025 - Introduction/Overvie
 w of Uniform Guidance? \n\n05/28/2025 - Documentation and Policies? \n\n06
 /04/2025 - Internal and External Reporting? \n\n06/11/2025 - Cost Allocati
 on? \n\n06/18/2025 - Grants Administration? \n\n06/25/2025 - Recap and Sum
 mary?
X-WR-RELCALID:9cd3dd0d983ec00523bdcdae38877420
X-WR-TIMEZONE:America/Denver
BEGIN:VTIMEZONE
TZID:America/Denver
BEGIN:STANDARD
TZNAME:MST
DTSTART:20241103T020000
TZOFFSETFROM:-0600
TZOFFSETTO:-0700
RDATE:20251102T020000
RDATE:20261101T020000
END:STANDARD
BEGIN:DAYLIGHT
TZNAME:MDT
DTSTART:20250309T020000
TZOFFSETFROM:-0700
TZOFFSETTO:-0600
RDATE:20260308T020000
END:DAYLIGHT
END:VTIMEZONE
BEGIN:VEVENT
UID:9a8ea63d-6447-4c05-ac81-9f9851ed16a2
DTSTAMP:20260422T164523Z
DESCRIPTION:This series is designed specifically for professionals that are
  looking to develop and strengthen their core competencies on grant accoun
 ting and finance.  The need for financial compliance is critical within fe
 derally grant-funded nonprofits\, as is being able to navigate the complex
 ities of federal grant awards.  More than ever\, financial departments are
  in need of a trusted advisor to provide support\, training\, and guidance
  to build stronger financial operations.  Wipfli is responding to this nee
 d by using it's 40+ years of experience in grant-funded experience and in-
 depth understanding of current trends and best practices by offering an 8-
 week\, virtual cohort program\, that will allow individuals to form strong
  and lasting professional connections and to engage with the instructors a
 nd peers.\nLearning Objectives: 1) Discuss practical grant accounting conc
 epts within your role.  2) Explore examples of internal controls\, cost al
 location\, grant management\, reporting\, and other core financial topics.
   3) Equip individuals with knowledge and tools to identify financial proc
 ess best practices.\n\nAdvanced preparation: None\nLevel: Overview\nPrereq
 uisite: None\nField of study: Accounting (Governmental)\nCPE: up to 16 cre
 dits\n\n \n\nSchedule:\n\n05/07/2025 - New to the Grant Granted World? \n
 \n05/14/2025 - Grant Management 101? \n\n05/21/2025 - Introduction/Overvie
 w of Uniform Guidance? \n\n05/28/2025 - Documentation and Policies? \n\n06
 /04/2025 - Internal and External Reporting? \n\n06/11/2025 - Cost Allocati
 on? \n\n06/18/2025 - Grants Administration? \n\n06/25/2025 - Recap and Sum
 mary?
DTSTART;TZID=America/Denver:20250604T130000
DTEND;TZID=America/Denver:20250604T150000
LOCATION:https://gfponline.wipfli.com/Shared_Content/Events/Event_Display.a
 spx?EventKey=WB050725&WebsiteKey=af6c1982-e96d-465e-ae30-fce5959931b5
SUMMARY:WIPFLI - May - June Financial Cohort Series for Grant Acctg
END:VEVENT
END:VCALENDAR
