BEGIN:VCALENDAR
VERSION:2.0
PRODID:-//caputah.org//NONSGML kigkonsult.se iCalcreator 2.30.10//
CALSCALE:GREGORIAN
METHOD:PUBLISH
UID:570cd5b3-44d1-4024-9f51-dffbf7faf3a6
X-WR-CALDESC:Maximizing multiple funding streams is essential for sustainin
 g high quality services\, but it can also be challenging to navigate. In t
 his national webinar\, nonprofit financial expert Kay Sohl will explore st
 rategies for braiding financial resources effectively\, ensuring long-term
  sustainability while maintaining compliance with funding requirements. Pa
 rticipants will learn practical solutions and real-world tools that can be
  used to braid funding to achieve agency goals and advance innovative stra
 tegies that focus on individuals and families while maintaining grant comp
 liance and funder requirements.  Join us for this engaging session to gain
  the tools and knowledge needed to build a more sustainable future for you
 r organization and the communities you serve.
X-WR-RELCALID:9aaeb0000e81c28419e5ac601ebcc943
X-WR-TIMEZONE:America/Denver
BEGIN:VTIMEZONE
TZID:America/Denver
BEGIN:STANDARD
TZNAME:MST
DTSTART:20241103T020000
TZOFFSETFROM:-0600
TZOFFSETTO:-0700
RDATE:20251102T020000
RDATE:20261101T020000
END:STANDARD
BEGIN:DAYLIGHT
TZNAME:MDT
DTSTART:20250309T020000
TZOFFSETFROM:-0700
TZOFFSETTO:-0600
RDATE:20260308T020000
END:DAYLIGHT
END:VTIMEZONE
BEGIN:VEVENT
UID:91a9adf9-b22c-414e-a3d9-00a4ac269432
DTSTAMP:20260422T164214Z
DESCRIPTION:Maximizing multiple funding streams is essential for sustaining
  high quality services\, but it can also be challenging to navigate. In th
 is national webinar\, nonprofit financial expert Kay Sohl will explore str
 ategies for braiding financial resources effectively\, ensuring long-term 
 sustainability while maintaining compliance with funding requirements. Par
 ticipants will learn practical solutions and real-world tools that can be 
 used to braid funding to achieve agency goals and advance innovative strat
 egies that focus on individuals and families while maintaining grant compl
 iance and funder requirements.  Join us for this engaging session to gain 
 the tools and knowledge needed to build a more sustainable future for your
  organization and the communities you serve.
DTSTART;TZID=America/Denver:20250604T120000
DTEND;TZID=America/Denver:20250604T130000
LOCATION:https://communityactionpartnership.zoom.us/webinar/register/WN_v5s
 BvpfpRaCEsotjt9_fDw#/registration
SUMMARY:NCAP - Braiding Financial Resources for Lasting Impact & Long-Term 
 Sustainability
END:VEVENT
END:VCALENDAR
