BEGIN:VCALENDAR
VERSION:2.0
PRODID:-//caputah.org//NONSGML kigkonsult.se iCalcreator 2.30.10//
CALSCALE:GREGORIAN
METHOD:PUBLISH
UID:4b6020f2-d733-43df-aa50-1840b59c4a14
X-WR-CALDESC:Being on a board isn’t just about showing up to meetings and n
 odding along. You know it's about making real moves: shaping policies\, re
 fining bylaws\, and steering strategies that bring your mission to life. B
 ut when your board feels out of sync or unsure of its next steps\, progres
 s stalls\, and opportunities slip through the cracks. So\, here’s the big 
 question: is your board ready to lead with purpose and vision?\n\nThe Nonp
 rofit Credential in Board Governance is here to help you turn a good board
  into a great one. Imagine a boardroom where every member is engaged\, ali
 gned\, and ready to tackle challenges head-on. This program will help you 
 unlock the tools to craft meaningful policies\, refine bylaws that actuall
 y work\, and build a powerhouse team that operates with clarity\, trust\, 
 and accountability.\n\nWhat’s in it for you?\n\nA board that’s not just pr
 esent\, but active and impactful\nClear\, engaging training to make every 
 member a pro at their role\nStrategies to amplify public trust and elevate
  your mission’s visibility\nTransparent fiscal oversight that’s responsibl
 e\, prudent\, and forward-thinking\nA rock-solid partnership between the b
 oard and your Executive Director/CEO\nThink of it as your board’s secret w
 eapon—a chance to turn ‘good enough’ into exceptional. Because your missio
 n deserves a leadership team that’s bold\, strategic\, and ready to lead w
 ith heart. Ready to build the board of your dreams?\n\nUpon completion\, y
 our organization will earn the Nonprofit Credential Board Governance Badge
 \, a mark of excellence to share with your network and show the world you’
 re serious about making an impact.\n\nCost\nUNA Members: $180 for the firs
 t person/$40 for each additional participant\nNot-Yet Members: $360 for th
 e first person/$80 for each additional participant\n\nCourse Dates\nOnline
  Training Sessions\nDay 1: Tuesday June 3\, 2025 | 9:30 AM to 3:30 PM\nDay
  2: Wednesday June 4\, 2025 | 9:30 AM to 3:30 PM\n\nOrganizational Consult
 ation\nWednesday July 9 or Thursday July 10\, 2025
X-WR-RELCALID:f86ae87400e766069112eafbf8e054a2
X-WR-TIMEZONE:America/Denver
BEGIN:VTIMEZONE
TZID:America/Denver
BEGIN:STANDARD
TZNAME:MST
DTSTART:20241103T020000
TZOFFSETFROM:-0600
TZOFFSETTO:-0700
RDATE:20251102T020000
RDATE:20261101T020000
END:STANDARD
BEGIN:DAYLIGHT
TZNAME:MDT
DTSTART:20250309T020000
TZOFFSETFROM:-0700
TZOFFSETTO:-0600
RDATE:20260308T020000
END:DAYLIGHT
END:VTIMEZONE
BEGIN:VEVENT
UID:f07f46a5-2207-4b4b-bfaf-3fd24d1be76b
DTSTAMP:20260422T164012Z
DESCRIPTION:Being on a board isn’t just about showing up to meetings and no
 dding along. You know it's about making real moves: shaping policies\, ref
 ining bylaws\, and steering strategies that bring your mission to life. Bu
 t when your board feels out of sync or unsure of its next steps\, progress
  stalls\, and opportunities slip through the cracks. So\, here’s the big q
 uestion: is your board ready to lead with purpose and vision?\n\nThe Nonpr
 ofit Credential in Board Governance is here to help you turn a good board 
 into a great one. Imagine a boardroom where every member is engaged\, alig
 ned\, and ready to tackle challenges head-on. This program will help you u
 nlock the tools to craft meaningful policies\, refine bylaws that actually
  work\, and build a powerhouse team that operates with clarity\, trust\, a
 nd accountability.\n\nWhat’s in it for you?\n\nA board that’s not just pre
 sent\, but active and impactful\nClear\, engaging training to make every m
 ember a pro at their role\nStrategies to amplify public trust and elevate 
 your mission’s visibility\nTransparent fiscal oversight that’s responsible
 \, prudent\, and forward-thinking\nA rock-solid partnership between the bo
 ard and your Executive Director/CEO\nThink of it as your board’s secret we
 apon—a chance to turn ‘good enough’ into exceptional. Because your mission
  deserves a leadership team that’s bold\, strategic\, and ready to lead wi
 th heart. Ready to build the board of your dreams?\n\nUpon completion\, yo
 ur organization will earn the Nonprofit Credential Board Governance Badge\
 , a mark of excellence to share with your network and show the world you’r
 e serious about making an impact.\n\nCost\nUNA Members: $180 for the first
  person/$40 for each additional participant\nNot-Yet Members: $360 for the
  first person/$80 for each additional participant\n\nCourse Dates\nOnline 
 Training Sessions\nDay 1: Tuesday June 3\, 2025 | 9:30 AM to 3:30 PM\nDay 
 2: Wednesday June 4\, 2025 | 9:30 AM to 3:30 PM\n\nOrganizational Consulta
 tion\nWednesday July 9 or Thursday July 10\, 2025
DTSTART;TZID=America/Denver:20250603T040000
DTEND;TZID=America/Denver:20250604T040001
LOCATION:https://members.utahnonprofits.org/una-event-calendar/Details/2025
 -nonprofit-credential-in-board-governance-1275608?sourceTypeId=Website
SUMMARY:UNA - 2025 Nonprofit Credential in Board Governance
END:VEVENT
END:VCALENDAR
