BEGIN:VCALENDAR
VERSION:2.0
PRODID:-//caputah.org//NONSGML kigkonsult.se iCalcreator 2.30.10//
CALSCALE:GREGORIAN
METHOD:PUBLISH
UID:c8270a74-3d28-4446-8c39-f9b830134026
X-WR-CALDESC:In recent years\, not-for-profit organizations have faced heig
 htened scrutiny from the general public and government authorities\, notab
 ly through executive orders. Form 990 has become a critical tool for trans
 parency and accountability. This webinar\, hosted by CBIZ\, will delve int
 o strategies for optimizing Form 990 to meet the rigorous standards of wat
 chdog entities\, ensuring your organization remains compliant and transpar
 ent. Participants will gain insights on best practices\, common pitfalls\,
  and how to effectively present organizational data to withstand scrutiny.
X-WR-RELCALID:155dbd26fe7ea609e0509fe718d26d19
X-WR-TIMEZONE:America/Denver
BEGIN:VTIMEZONE
TZID:America/Denver
BEGIN:STANDARD
TZNAME:MST
DTSTART:20241103T020000
TZOFFSETFROM:-0600
TZOFFSETTO:-0700
RDATE:20251102T020000
RDATE:20261101T020000
END:STANDARD
BEGIN:DAYLIGHT
TZNAME:MDT
DTSTART:20250309T020000
TZOFFSETFROM:-0700
TZOFFSETTO:-0600
RDATE:20260308T020000
END:DAYLIGHT
END:VTIMEZONE
BEGIN:VEVENT
UID:fed67c27-2d39-4c9a-bd62-3b3f3a4af444
DTSTAMP:20260422T163651Z
DESCRIPTION:In recent years\, not-for-profit organizations have faced heigh
 tened scrutiny from the general public and government authorities\, notabl
 y through executive orders. Form 990 has become a critical tool for transp
 arency and accountability. This webinar\, hosted by CBIZ\, will delve into
  strategies for optimizing Form 990 to meet the rigorous standards of watc
 hdog entities\, ensuring your organization remains compliant and transpare
 nt. Participants will gain insights on best practices\, common pitfalls\, 
 and how to effectively present organizational data to withstand scrutiny.
DTSTART;TZID=America/Denver:20250605T110000
DTEND;TZID=America/Denver:20250605T120000
LOCATION:https://www.cbiz.com/events/optimizing-irs-form-990-amid-increased
 -scrutiny
SUMMARY:NCAP - Optimizing IRS Form 990 Amid Increased Scrutiny
END:VEVENT
END:VCALENDAR
