BEGIN:VCALENDAR
VERSION:2.0
PRODID:-//caputah.org//NONSGML kigkonsult.se iCalcreator 2.30.10//
CALSCALE:GREGORIAN
METHOD:PUBLISH
UID:ad92ccab-3c75-4f2c-93ab-ebc18fce3a76
X-WR-CALDESC:Join us online for a training workshop to learn about the Offi
 ce of Management and Budget’s (OMB’s) Uniform Guidance regulations (2 CFR 
 Part 200: Uniform Administrative Requirements\, Cost Principles and Audit 
 Requirements for Federal Awards).\n\nWe’ll review the regulations and shar
 e examples\, stories and best practices learned from years of auditing and
  consulting.\n\nWipfli’s nonprofit specialists have been presenting high-q
 uality training for more than 40 years. During this virtual workshop\, we’
 ll provide you with federal grant regulation training relating to financia
 l management and administration to help you with financial grant complianc
 e.\n\nParticipants declare Wipfli training to be “empowering\,” “outstandi
 ng\,” “meaningful\,” “invaluable” and “relevant.”\n\nJoin us from the comf
 ort of your location. Sign up today. \n\nRegistration fee\n$975 per person
 \n\nMy Wipfli nonprofit and government membership service members automati
 cally receive an additional $25 discount per registrant.\n\nWipfli accepts
  AmEx\, Discover\, Visa and Mastercard.\n\nThe registration fee includes:
 \n\nUp to 10.5 continuing professional education (CPE) credits in accordan
 ce with the standards of the National Registry of CPE Sponsors. CPE credit
 s are granted based on a 50-minute hour.\nReference materials (any PowerPo
 int presentations and/or additional references) available for download.\n
 \nDaily schedule\nTuesday\, June 3\, 2025\n12:30 p.m.-4 p.m. CT | General 
 provisions\, administrative requirement and procurement\n\nWednesday\, Jun
 e 4\, 2025  \n12:30 p.m.-4 p.m. CT | Monitoring and reporting\, cost princ
 iples and cost allocation\n\nThursday\, June 5\, 2025\n12:30 p.m.-4 p.m. C
 T | Selected items of cost and audit requirements
X-WR-RELCALID:0f5957c28f76223eec5ca9bbc5c5b343
X-WR-TIMEZONE:America/Denver
BEGIN:VTIMEZONE
TZID:America/Denver
BEGIN:STANDARD
TZNAME:MST
DTSTART:20241103T020000
TZOFFSETFROM:-0600
TZOFFSETTO:-0700
RDATE:20251102T020000
RDATE:20261101T020000
END:STANDARD
BEGIN:DAYLIGHT
TZNAME:MDT
DTSTART:20250309T020000
TZOFFSETFROM:-0700
TZOFFSETTO:-0600
RDATE:20260308T020000
END:DAYLIGHT
END:VTIMEZONE
BEGIN:VEVENT
UID:3fde60b8-1345-4820-846e-596e37da954d
DTSTAMP:20260422T163753Z
DESCRIPTION:Join us online for a training workshop to learn about the Offic
 e of Management and Budget’s (OMB’s) Uniform Guidance regulations (2 CFR P
 art 200: Uniform Administrative Requirements\, Cost Principles and Audit R
 equirements for Federal Awards).\n\nWe’ll review the regulations and share
  examples\, stories and best practices learned from years of auditing and 
 consulting.\n\nWipfli’s nonprofit specialists have been presenting high-qu
 ality training for more than 40 years. During this virtual workshop\, we’l
 l provide you with federal grant regulation training relating to financial
  management and administration to help you with financial grant compliance
 .\n\nParticipants declare Wipfli training to be “empowering\,” “outstandin
 g\,” “meaningful\,” “invaluable” and “relevant.”\n\nJoin us from the comfo
 rt of your location. Sign up today. \n\nRegistration fee\n$975 per person
 \n\nMy Wipfli nonprofit and government membership service members automati
 cally receive an additional $25 discount per registrant.\n\nWipfli accepts
  AmEx\, Discover\, Visa and Mastercard.\n\nThe registration fee includes:
 \n\nUp to 10.5 continuing professional education (CPE) credits in accordan
 ce with the standards of the National Registry of CPE Sponsors. CPE credit
 s are granted based on a 50-minute hour.\nReference materials (any PowerPo
 int presentations and/or additional references) available for download.\n
 \nDaily schedule\nTuesday\, June 3\, 2025\n12:30 p.m.-4 p.m. CT | General 
 provisions\, administrative requirement and procurement\n\nWednesday\, Jun
 e 4\, 2025  \n12:30 p.m.-4 p.m. CT | Monitoring and reporting\, cost princ
 iples and cost allocation\n\nThursday\, June 5\, 2025\n12:30 p.m.-4 p.m. C
 T | Selected items of cost and audit requirements
DTSTART;TZID=America/Denver:20250603T040000
DTEND;TZID=America/Denver:20250605T040001
LOCATION:https://www.wipfli.com/events/nge-omb-uniform-guidance-june-2025
SUMMARY:WIPFLI - In-depth training on OMB’s Uniform Guidance
END:VEVENT
END:VCALENDAR
