BEGIN:VCALENDAR
VERSION:2.0
PRODID:-//caputah.org//NONSGML kigkonsult.se iCalcreator 2.30.10//
CALSCALE:GREGORIAN
METHOD:PUBLISH
UID:32d6df78-d588-4d28-9829-d1abd4cebea8
X-WR-CALDESC:Join NCAP for a series of Roundtables designed to provide curr
 ent Community Action Executive Directors (EDs) and CEOs space to discuss s
 olutions for emerging issues\, receive updates on relevant tools and resou
 rces\, and learn about effective strategies from peers. Beyond fostering p
 eer-to-peer dialogue\, these roundtables provide an opportunity for NCAP a
 nd national stakeholders to actively listen to the pressing needs and chal
 lenges faced by Community Action leaders\, thereby better understanding an
 d further responding to the shifting landscape.\n\nRoundtables are organiz
 ed by areas of focus\, with broad guidelines for both discussions and audi
 ences. EDs and CEOs are welcome to join any or all Roundtable sessions.\n
 \nEach session will be approximately 60 minutes. The following sessions ar
 e available:\n\nRoundtable 1: Small CAA Focus\n\nThis Roundtable will disc
 uss strategies for addressing the unique challenges that smaller Community
  Action Agencies face\, such as limited staff capacity and financial const
 raints.\n\n•	Date: Tuesday\, June 5th \n•	Time: 12:00pm ET | 11:00am CT | 10
 :00am MT | 9:00am PT \n\nRoundtable 2: All CAAs Focus\n\nThis Roundtable w
 ill be an open conversation with topics for discussion chosen by participa
 nts\, allowing for real-time engagement with the most pressing and relevan
 t issues for all Community Action Agencies.\n\n•	Date: Friday\, June 6th \n
 •	Time: 11:00am ET | 10:00am CT | 9:00am MT | 8:00am PT \n\nRoundtable 3: S
 cenario Planning\n\nThis Roundtable will delve into the critical importanc
 e of developing plans that account for multiple potential future realities
 .\n\n•	Date: Friday\, June 6th \n•	Time: 1:00pm ET | 12:00pm CT | 11:00am MT
  | 10:00am PT \n\nRoundtable 4: Working with your Board in this Moment\n\n
 This Roundtable will explore the board's vital role in financial oversight
 \, advocacy\, planning\, and setting organizational priorities in this mom
 ent.\n\n•	Date: Tuesday\, June 10th \n•	Time: 1:00pm ET | 12:00pm CT | 11:00
 am MT | 10:00am PT \n\nRoundtable 5: Rural CAA Focus\n\nThis Roundtable wi
 ll consider the distinct geographical and resource challenges faced by rur
 al Community Action Agencies\, and how to build on the strengths of rural 
 communities in this current environment.\n\n•	Date: Tuesday\, June 10th \n•
 	Time: 4:00pm ET | 3:00pm CT | 2:00pm MT | 1:00pm PT \n \nPlease Note: The 
 Roundtables are exclusively for Executive Directors and CEOs\, and pre-reg
 istration is required.\n
X-WR-RELCALID:9593b8c362d499b9c88929a722deef73
X-WR-TIMEZONE:America/Denver
BEGIN:VTIMEZONE
TZID:America/Denver
BEGIN:STANDARD
TZNAME:MST
DTSTART:20241103T020000
TZOFFSETFROM:-0600
TZOFFSETTO:-0700
RDATE:20251102T020000
RDATE:20261101T020000
END:STANDARD
BEGIN:DAYLIGHT
TZNAME:MDT
DTSTART:20250309T020000
TZOFFSETFROM:-0700
TZOFFSETTO:-0600
RDATE:20260308T020000
END:DAYLIGHT
END:VTIMEZONE
BEGIN:VEVENT
UID:d5ea1480-5c93-4fe5-98a4-e1f4395e6fef
DTSTAMP:20260422T181807Z
DESCRIPTION:Join NCAP for a series of Roundtables designed to provide curre
 nt Community Action Executive Directors (EDs) and CEOs space to discuss so
 lutions for emerging issues\, receive updates on relevant tools and resour
 ces\, and learn about effective strategies from peers. Beyond fostering pe
 er-to-peer dialogue\, these roundtables provide an opportunity for NCAP an
 d national stakeholders to actively listen to the pressing needs and chall
 enges faced by Community Action leaders\, thereby better understanding and
  further responding to the shifting landscape.\n\nRoundtables are organize
 d by areas of focus\, with broad guidelines for both discussions and audie
 nces. EDs and CEOs are welcome to join any or all Roundtable sessions.\n\n
 Each session will be approximately 60 minutes. The following sessions are 
 available:\n\nRoundtable 1: Small CAA Focus\n\nThis Roundtable will discus
 s strategies for addressing the unique challenges that smaller Community A
 ction Agencies face\, such as limited staff capacity and financial constra
 ints.\n\n•	Date: Tuesday\, June 5th \n•	Time: 12:00pm ET | 11:00am CT | 10:0
 0am MT | 9:00am PT \n\nRoundtable 2: All CAAs Focus\n\nThis Roundtable wil
 l be an open conversation with topics for discussion chosen by participant
 s\, allowing for real-time engagement with the most pressing and relevant 
 issues for all Community Action Agencies.\n\n•	Date: Friday\, June 6th \n•	T
 ime: 11:00am ET | 10:00am CT | 9:00am MT | 8:00am PT \n\nRoundtable 3: Sce
 nario Planning\n\nThis Roundtable will delve into the critical importance 
 of developing plans that account for multiple potential future realities.
 \n\n•	Date: Friday\, June 6th \n•	Time: 1:00pm ET | 12:00pm CT | 11:00am MT 
 | 10:00am PT \n\nRoundtable 4: Working with your Board in this Moment\n\nT
 his Roundtable will explore the board's vital role in financial oversight\
 , advocacy\, planning\, and setting organizational priorities in this mome
 nt.\n\n•	Date: Tuesday\, June 10th \n•	Time: 1:00pm ET | 12:00pm CT | 11:00a
 m MT | 10:00am PT \n\nRoundtable 5: Rural CAA Focus\n\nThis Roundtable wil
 l consider the distinct geographical and resource challenges faced by rura
 l Community Action Agencies\, and how to build on the strengths of rural c
 ommunities in this current environment.\n\n•	Date: Tuesday\, June 10th \n•	T
 ime: 4:00pm ET | 3:00pm CT | 2:00pm MT | 1:00pm PT \n \nPlease Note: The R
 oundtables are exclusively for Executive Directors and CEOs\, and pre-regi
 stration is required.\n
DTSTART;TZID=America/Denver:20250610T140000
DTEND;TZID=America/Denver:20250610T150000
LOCATION:https://ncap.users.membersuite.com/events/9a6db3bd-0078-c2ea-68f0-
 0b48468ad99f/details
SUMMARY:NCAP - ED/CEO Roundtables - Responding to the Shifting Landscape - 
 Roundtable 5: Rural CAA Focus
END:VEVENT
END:VCALENDAR
