BEGIN:VCALENDAR
VERSION:2.0
PRODID:-//caputah.org//NONSGML kigkonsult.se iCalcreator 2.30.10//
CALSCALE:GREGORIAN
METHOD:PUBLISH
UID:365b8734-8ec2-466b-85cc-c61c572ed8a7
X-WR-CALDESC:How do high-performing agencies use internal feedback to drive
  improvement? This session focuses on how Community Action Agencies can st
 rengthen internal operations by gathering\, analyzing\, and acting on feed
 back from staff\, board members\, and volunteers. We’ll identify key inter
 nal customers\, explore how to build feedback into performance management 
 systems\, and discuss practical steps to support staff engagement\, well-b
 eing\, and satisfaction. The session will highlight how two-way communicat
 ion methods contribute to a culture of continuous improvement and shared a
 ccountability.
X-WR-RELCALID:2d895e0032e5529725c09453544f1eae
X-WR-TIMEZONE:America/Denver
BEGIN:VTIMEZONE
TZID:America/Denver
BEGIN:STANDARD
TZNAME:MST
DTSTART:20241103T020000
TZOFFSETFROM:-0600
TZOFFSETTO:-0700
RDATE:20251102T020000
RDATE:20261101T020000
END:STANDARD
BEGIN:DAYLIGHT
TZNAME:MDT
DTSTART:20250309T020000
TZOFFSETFROM:-0700
TZOFFSETTO:-0600
RDATE:20260308T020000
END:DAYLIGHT
END:VTIMEZONE
BEGIN:VEVENT
UID:6228aad8-a121-4bd5-80e6-b98a740048a8
DTSTAMP:20260422T163839Z
DESCRIPTION:How do high-performing agencies use internal feedback to drive 
 improvement? This session focuses on how Community Action Agencies can str
 engthen internal operations by gathering\, analyzing\, and acting on feedb
 ack from staff\, board members\, and volunteers. We’ll identify key intern
 al customers\, explore how to build feedback into performance management s
 ystems\, and discuss practical steps to support staff engagement\, well-be
 ing\, and satisfaction. The session will highlight how two-way communicati
 on methods contribute to a culture of continuous improvement and shared ac
 countability.
DTSTART;TZID=America/Denver:20250610T120000
DTEND;TZID=America/Denver:20250610T130000
LOCATION:https://communityactionpartnership.zoom.us/webinar/register/WN__S3
 v943_QhC0-jy8meczgg#/registration
SUMMARY:NCAP - Leveraging Internal Feedback for Organizational Excellence
END:VEVENT
END:VCALENDAR
