BEGIN:VCALENDAR
VERSION:2.0
PRODID:-//caputah.org//NONSGML kigkonsult.se iCalcreator 2.30.10//
CALSCALE:GREGORIAN
METHOD:PUBLISH
UID:c338c949-1c31-45cd-a2a8-2adb4bed2d2f
X-WR-CALDESC:During this session\, David will provide a legislative update 
 and discuss engaging with congressional district offices\, invitations and
  the effort in August\, the campaign in support of HR 3131\, letters-to-th
 e-editor\, social media does and don’ts and pushing back on the Administra
 tion’s language regarding CSBG.
X-WR-RELCALID:ebc053267101cb8a46efc4b1cbfa1a3d
X-WR-TIMEZONE:America/Denver
BEGIN:VTIMEZONE
TZID:America/Denver
BEGIN:STANDARD
TZNAME:MST
DTSTART:20241103T020000
TZOFFSETFROM:-0600
TZOFFSETTO:-0700
RDATE:20251102T020000
RDATE:20261101T020000
END:STANDARD
BEGIN:DAYLIGHT
TZNAME:MDT
DTSTART:20250309T020000
TZOFFSETFROM:-0700
TZOFFSETTO:-0600
RDATE:20260308T020000
END:DAYLIGHT
END:VTIMEZONE
BEGIN:VEVENT
UID:3e0a97e0-04bf-4237-a91b-59d59b99b075
DTSTAMP:20260422T163753Z
DESCRIPTION:During this session\, David will provide a legislative update a
 nd discuss engaging with congressional district offices\, invitations and 
 the effort in August\, the campaign in support of HR 3131\, letters-to-the
 -editor\, social media does and don’ts and pushing back on the Administrat
 ion’s language regarding CSBG.
DTSTART;TZID=America/Denver:20250613T110000
DTEND;TZID=America/Denver:20250613T120000
LOCATION:https://us02web.zoom.us/webinar/register/WN_hmsPzT7YQnqHhGcJwFumoA
 #/registration
SUMMARY:NCAF - June 2025 Coffee Chat with David Bradley
END:VEVENT
END:VCALENDAR
