BEGIN:VCALENDAR
VERSION:2.0
PRODID:-//caputah.org//NONSGML kigkonsult.se iCalcreator 2.30.10//
CALSCALE:GREGORIAN
METHOD:PUBLISH
UID:a124b7c8-b026-4526-8bda-8091a3e83254
X-WR-CALDESC:On September 27\, 2024\, Western North Carolina was completely
  decimated by Tropical Storm Helene. Entire communities were destroyed by 
 mudslides and flooding. Areas were left completely cutoff by roads and bri
 dges washing away. Residents were left without power and internet for week
 s. Water service did not return for months.  \n\nIn this webinar\, join Ja
 mes Duncan\, Weatherization Services Program Manager\, to hear how Communi
 ty Action Opportunities became part of the Asheville Regional Coalition fo
 r Home Repair (ARCHR) to respond to this unprecedented disaster. Learn how
  partnering organizations came together to pool resources and coordinate e
 fforts to help low income families recover. Hear tips\, suggestions\, and 
 advice for navigating through something that you hopefully will never have
  to experience.
X-WR-RELCALID:3b6d50b710c17304ab58cc4811433992
X-WR-TIMEZONE:America/Denver
BEGIN:VTIMEZONE
TZID:America/Denver
BEGIN:STANDARD
TZNAME:MST
DTSTART:20241103T020000
TZOFFSETFROM:-0600
TZOFFSETTO:-0700
RDATE:20251102T020000
RDATE:20261101T020000
END:STANDARD
BEGIN:DAYLIGHT
TZNAME:MDT
DTSTART:20250309T020000
TZOFFSETFROM:-0700
TZOFFSETTO:-0600
RDATE:20260308T020000
END:DAYLIGHT
END:VTIMEZONE
BEGIN:VEVENT
UID:cd39a2d4-7b85-4d8b-ab32-46dbe293e51b
DTSTAMP:20260422T164332Z
DESCRIPTION:On September 27\, 2024\, Western North Carolina was completely 
 decimated by Tropical Storm Helene. Entire communities were destroyed by m
 udslides and flooding. Areas were left completely cutoff by roads and brid
 ges washing away. Residents were left without power and internet for weeks
 . Water service did not return for months.  \n\nIn this webinar\, join Jam
 es Duncan\, Weatherization Services Program Manager\, to hear how Communit
 y Action Opportunities became part of the Asheville Regional Coalition for
  Home Repair (ARCHR) to respond to this unprecedented disaster. Learn how 
 partnering organizations came together to pool resources and coordinate ef
 forts to help low income families recover. Hear tips\, suggestions\, and a
 dvice for navigating through something that you hopefully will never have 
 to experience.
DTSTART;TZID=America/Denver:20250617T120000
DTEND;TZID=America/Denver:20250617T130000
LOCATION:https://communityactionpartnership.zoom.us/webinar/register/WN_mdR
 HneM9Qg-SNn32YF0SBw#/registration
SUMMARY:NCAP - Come Helene or High Water: A Webinar on Disaster Resilience
END:VEVENT
END:VCALENDAR
