BEGIN:VCALENDAR
VERSION:2.0
PRODID:-//caputah.org//NONSGML kigkonsult.se iCalcreator 2.30.10//
CALSCALE:GREGORIAN
METHOD:PUBLISH
UID:90a460e9-fdb8-4127-9afb-109008844696
X-WR-CALDESC:NCAF is bringing in an experienced media trainer to provide ag
 ency executive directors and communications departments with tailored medi
 a training including:\n\n● Understanding what journalists want from an int
 erview\n● Preparing for a media interview\n● Crafting clear messages that 
 help audiences understand the subject matter\n● Honing verbal techniques f
 or getting messages across\n● Presenting well: body language and wardrobe
 \nn Staying in control of an interview: techniques and scripts \n\nPlease 
 add any questions you have for our media trainer in advance of the session
  through the registration.
X-WR-RELCALID:02c779c50b756a3ee16bf38c2473f0a6
X-WR-TIMEZONE:America/Denver
BEGIN:VTIMEZONE
TZID:America/Denver
BEGIN:STANDARD
TZNAME:MST
DTSTART:20241103T020000
TZOFFSETFROM:-0600
TZOFFSETTO:-0700
RDATE:20251102T020000
RDATE:20261101T020000
END:STANDARD
BEGIN:DAYLIGHT
TZNAME:MDT
DTSTART:20250309T020000
TZOFFSETFROM:-0700
TZOFFSETTO:-0600
RDATE:20260308T020000
END:DAYLIGHT
END:VTIMEZONE
BEGIN:VEVENT
UID:c4225c8f-82f8-4cfd-a631-52a8472ad3cb
DTSTAMP:20260422T163846Z
DESCRIPTION:NCAF is bringing in an experienced media trainer to provide age
 ncy executive directors and communications departments with tailored media
  training including:\n\n● Understanding what journalists want from an inte
 rview\n● Preparing for a media interview\n● Crafting clear messages that h
 elp audiences understand the subject matter\n● Honing verbal techniques fo
 r getting messages across\n● Presenting well: body language and wardrobe\n
 ● Staying in control of an interview: techniques and scripts \n\nPlease ad
 d any questions you have for our media trainer in advance of the session t
 hrough the registration.
DTSTART;TZID=America/Denver:20250618T110000
DTEND;TZID=America/Denver:20250618T120000
LOCATION:https://us02web.zoom.us/webinar/register/WN_I8jCPESBRM6mSExkghObsA
 #/registration
SUMMARY:NCAF - Media Training for Community Action Agencies
END:VEVENT
END:VCALENDAR
