BEGIN:VCALENDAR
VERSION:2.0
PRODID:-//caputah.org//NONSGML kigkonsult.se iCalcreator 2.30.10//
CALSCALE:GREGORIAN
METHOD:PUBLISH
UID:d467eb9a-0af1-41ab-b318-b7d6858f66c4
X-WR-CALDESC:Want to win more grants for your nonprofit? The first step to 
 success is being able to find good-fit funders. If you've ever struggled t
 o find active grant opportunities that match your cause area\, this deep-d
 ive workshop is for you. In this 1-hour special workshop hosted by Instrum
 entl\, you’ll learn how to take your organization from flat-footed to spri
 nting towards finding and applying for new funding opportunities.\n\nBy th
 e end of this workshop\, you’ll learn: Why grants are so powerful Key ques
 tions to ask to evaluate funder alignment How to start finding good fit fu
 nders fast using Instrumentl Plus\, you'll leave with personalized grant r
 ecommendations for your nonprofit.\n\nAbout Intrumentl \n\nInstrumentl is 
 the most loved all-in-one grants platform. Say goodbye to your endless gra
 nt sleuthing and updating of manual spreadsheets. Get organized and get re
 sults with your grant process: use Instrumentl for end-to-end grant manage
 ment. \n\nWith Instrumentl\, you can:\n\nDiscover funders and new grant op
 portunities\nResearch and identify best-fit funders in seconds\nTrack and 
 manage pre-award & post-award grant opportunities\nOver 3\,000 nonprofits\
 , grant consultants\, and institutions use Instrumentl as their single sou
 rce of truth for grants. You\, too\, can enjoy easier grant collaboration 
 & improved visibility across all phases of the grants lifecycle.\n\nMember
 s of UNA get a $100 discount on their first month or two months off any an
 nual plan. learn more in the Member Info Hub (valid for new customers only
 ). Learn more.  \n\nPLEASE NOTE: This webinar is best suited for US-based 
 501(c)(3) nonprofits with a minimum of a $200k operating budget\, or consu
 ltants working with such organizations.
X-WR-RELCALID:bf0797a3b342180d25e99d3add84cb8a
X-WR-TIMEZONE:America/Denver
BEGIN:VTIMEZONE
TZID:America/Denver
BEGIN:STANDARD
TZNAME:MST
DTSTART:20241103T020000
TZOFFSETFROM:-0600
TZOFFSETTO:-0700
RDATE:20251102T020000
RDATE:20261101T020000
END:STANDARD
BEGIN:DAYLIGHT
TZNAME:MDT
DTSTART:20250309T020000
TZOFFSETFROM:-0700
TZOFFSETTO:-0600
RDATE:20260308T020000
END:DAYLIGHT
END:VTIMEZONE
BEGIN:VEVENT
UID:d350055c-0498-44a8-8982-f69467c8e241
DTSTAMP:20260422T164513Z
DESCRIPTION:Want to win more grants for your nonprofit? The first step to s
 uccess is being able to find good-fit funders. If you've ever struggled to
  find active grant opportunities that match your cause area\, this deep-di
 ve workshop is for you. In this 1-hour special workshop hosted by Instrume
 ntl\, you’ll learn how to take your organization from flat-footed to sprin
 ting towards finding and applying for new funding opportunities.\n\nBy the
  end of this workshop\, you’ll learn: Why grants are so powerful Key quest
 ions to ask to evaluate funder alignment How to start finding good fit fun
 ders fast using Instrumentl Plus\, you'll leave with personalized grant re
 commendations for your nonprofit.\n\nAbout Intrumentl \n\nInstrumentl is t
 he most loved all-in-one grants platform. Say goodbye to your endless gran
 t sleuthing and updating of manual spreadsheets. Get organized and get res
 ults with your grant process: use Instrumentl for end-to-end grant managem
 ent. \n\nWith Instrumentl\, you can:\n\nDiscover funders and new grant opp
 ortunities\nResearch and identify best-fit funders in seconds\nTrack and m
 anage pre-award & post-award grant opportunities\nOver 3\,000 nonprofits\,
  grant consultants\, and institutions use Instrumentl as their single sour
 ce of truth for grants. You\, too\, can enjoy easier grant collaboration &
  improved visibility across all phases of the grants lifecycle.\n\nMembers
  of UNA get a $100 discount on their first month or two months off any ann
 ual plan. learn more in the Member Info Hub (valid for new customers only)
 . Learn more.  \n\nPLEASE NOTE: This webinar is best suited for US-based 5
 01(c)(3) nonprofits with a minimum of a $200k operating budget\, or consul
 tants working with such organizations.
DTSTART;TZID=America/Denver:20250618T100000
DTEND;TZID=America/Denver:20250618T110000
LOCATION:https://members.utahnonprofits.org/una-event-calendar/Details/how-
 to-find-the-good-fit-fundraisers-in-under-60-minutes-1395174?sourceTypeId=
 Website
SUMMARY:UNA - How to Find the Good-Fit Funders in Under 60 Minutes
END:VEVENT
END:VCALENDAR
