BEGIN:VCALENDAR
VERSION:2.0
PRODID:-//caputah.org//NONSGML kigkonsult.se iCalcreator 2.30.10//
CALSCALE:GREGORIAN
METHOD:PUBLISH
UID:437a8535-09b7-4adf-ab92-eeee4c251673
X-WR-CALDESC:The National Coordinating Council on Access and Mobility Techn
 ical Assistance Center (CCAM-TAC) and NCAP are working together! Listen in
  as National CCAM-TAC Director Bill Wagner shares the newly launched Techn
 ical Assistance (TA) Center website. Learn how\, after over 10 years of de
 veloping improved mobility management practices\, this new TA Center featu
 res exciting new tools and strategies. Bill will demonstrate some of the r
 esources CCAM-TAC is offering and how you can receive technical assistance
  and put these valuable tools to work to improve transportation and mobili
 ty in your communities.
X-WR-RELCALID:58ee5cde94749aa268fb65cb18acda2b
X-WR-TIMEZONE:America/Denver
BEGIN:VTIMEZONE
TZID:America/Denver
BEGIN:STANDARD
TZNAME:MST
DTSTART:20241103T020000
TZOFFSETFROM:-0600
TZOFFSETTO:-0700
RDATE:20251102T020000
RDATE:20261101T020000
END:STANDARD
BEGIN:DAYLIGHT
TZNAME:MDT
DTSTART:20250309T020000
TZOFFSETFROM:-0700
TZOFFSETTO:-0600
RDATE:20260308T020000
END:DAYLIGHT
END:VTIMEZONE
BEGIN:VEVENT
UID:c2c28639-a3ea-45c6-bd76-8a7fee3eac8b
DTSTAMP:20260422T164338Z
DESCRIPTION:The National Coordinating Council on Access and Mobility Techni
 cal Assistance Center (CCAM-TAC) and NCAP are working together! Listen in 
 as National CCAM-TAC Director Bill Wagner shares the newly launched Techni
 cal Assistance (TA) Center website. Learn how\, after over 10 years of dev
 eloping improved mobility management practices\, this new TA Center featur
 es exciting new tools and strategies. Bill will demonstrate some of the re
 sources CCAM-TAC is offering and how you can receive technical assistance 
 and put these valuable tools to work to improve transportation and mobilit
 y in your communities.
DTSTART;TZID=America/Denver:20250623T113000
DTEND;TZID=America/Denver:20250623T123000
LOCATION:https://communityactionpartnership.zoom.us/webinar/register/WN_ARA
 UoLfMSfm25lb-C_t-ug#/registration
SUMMARY:NCAP - What is CCAM-TAC and How can it Impact your Program and Tran
 sportation in Your Community?
END:VEVENT
END:VCALENDAR
