BEGIN:VCALENDAR
VERSION:2.0
PRODID:-//caputah.org//NONSGML kigkonsult.se iCalcreator 2.30.10//
CALSCALE:GREGORIAN
METHOD:PUBLISH
UID:c660774d-31d1-4c8e-8f93-0d459cc9ef92
X-WR-CALDESC:Discover how to secure your financial future at this dynamic F
 inancial Planning Seminar. Learn expert strategies for budgeting\, investi
 ng\, and retirement planning to achieve your dreams\, no matter your stage
  of life. Join Mutual of America\, an NCAP Endorsed Vendor\, for practical
  tips and personalized insights to build wealth with confidence!
X-WR-RELCALID:c239d1c7b84bf86c954738caf935fd12
X-WR-TIMEZONE:America/Denver
BEGIN:VTIMEZONE
TZID:America/Denver
BEGIN:STANDARD
TZNAME:MST
DTSTART:20241103T020000
TZOFFSETFROM:-0600
TZOFFSETTO:-0700
RDATE:20251102T020000
RDATE:20261101T020000
END:STANDARD
BEGIN:DAYLIGHT
TZNAME:MDT
DTSTART:20250309T020000
TZOFFSETFROM:-0700
TZOFFSETTO:-0600
RDATE:20260308T020000
END:DAYLIGHT
END:VTIMEZONE
BEGIN:VEVENT
UID:7e813d49-88e4-476d-be15-bb255bfda196
DTSTAMP:20260422T164657Z
DESCRIPTION:Discover how to secure your financial future at this dynamic Fi
 nancial Planning Seminar. Learn expert strategies for budgeting\, investin
 g\, and retirement planning to achieve your dreams\, no matter your stage 
 of life. Join Mutual of America\, an NCAP Endorsed Vendor\, for practical 
 tips and personalized insights to build wealth with confidence!
DTSTART;TZID=America/Denver:20250624T120000
DTEND;TZID=America/Denver:20250624T130000
LOCATION:https://communityactionpartnership.com/event/planning-for-your-fin
 ancial-security/
SUMMARY:NCAP - Planning For Your Financial Security with NCAP Endorsed Vend
 or Mutual of America
END:VEVENT
END:VCALENDAR
