BEGIN:VCALENDAR
VERSION:2.0
PRODID:-//caputah.org//NONSGML kigkonsult.se iCalcreator 2.30.10//
CALSCALE:GREGORIAN
METHOD:PUBLISH
UID:cdb22534-bf3f-4248-939d-50f941db443b
X-WR-CALDESC:Join CAP Utah for a 'Captivating' in-person conference from Ju
 ne 25 - 27\, 2025. This will be a time to connect with peers\, celebrate t
 he work of the statewide network\, and to recharge!\n\nThis conference is 
 open to Community Action Agencies in Utah\, Community Action Agencies in R
 egion 8\, and any other partner and/or human services provider who can tak
 e advantage of this conference.\n\nThe main conference will take place on 
 Thursday\, June 26 and Friday\, June 27\, 2025 at the Mountain America Exp
 o Center in Sandy\, Utah.\n\nSome highlights of this year's conference:\n
 \n* Case Management Sessions on Circle of Control Work and holding difficu
 lt conversations\n* Agency Updates / Celebrations from Community Action Ag
 encies\n* Awards lunch recognizing 2025 Excellence in Community Action Awa
 rd Recipients\n* Management Sessions on Navigating Uncertainty and Results
 -Oriented Story Telling\n* Opportunities to hear from local elected offici
 als\n* A very special interactive wellness workshop - 'An Investment in ou
 r most valuable assets: the change makers.” You will not want to miss this
 !\n\nThere will be a special pre-conference on June 25\,2025 from 1 -5 pm 
 on 'True Colors'. Please note that the pre-conference will take place at a
  different location than the primary conference.\n\n
X-WR-RELCALID:aca12234bd349cef575de4ef213ede9e
X-WR-TIMEZONE:America/Denver
BEGIN:VTIMEZONE
TZID:America/Denver
BEGIN:STANDARD
TZNAME:MST
DTSTART:20241103T020000
TZOFFSETFROM:-0600
TZOFFSETTO:-0700
RDATE:20251102T020000
RDATE:20261101T020000
END:STANDARD
BEGIN:DAYLIGHT
TZNAME:MDT
DTSTART:20250309T020000
TZOFFSETFROM:-0700
TZOFFSETTO:-0600
RDATE:20260308T020000
END:DAYLIGHT
END:VTIMEZONE
BEGIN:VEVENT
UID:a31050e0-679a-44ca-83be-002475077422
DTSTAMP:20260422T181338Z
DESCRIPTION:Join CAP Utah for a 'Captivating' in-person conference from Jun
 e 25 - 27\, 2025. This will be a time to connect with peers\, celebrate th
 e work of the statewide network\, and to recharge!\n\nThis conference is o
 pen to Community Action Agencies in Utah\, Community Action Agencies in Re
 gion 8\, and any other partner and/or human services provider who can take
  advantage of this conference.\n\nThe main conference will take place on T
 hursday\, June 26 and Friday\, June 27\, 2025 at the Mountain America Expo
  Center in Sandy\, Utah.\n\nSome highlights of this year's conference:\n\n
 * Case Management Sessions on Circle of Control Work and holding difficult
  conversations\n* Agency Updates / Celebrations from Community Action Agen
 cies\n* Awards lunch recognizing 2025 Excellence in Community Action Award
  Recipients\n* Management Sessions on Navigating Uncertainty and Results-O
 riented Story Telling\n* Opportunities to hear from local elected official
 s\n* A very special interactive wellness workshop - 'An Investment in our 
 most valuable assets: the change makers.” You will not want to miss this!
 \n\nThere will be a special pre-conference on June 25\,2025 from 1 -5 pm o
 n 'True Colors'. Please note that the pre-conference will take place at a 
 different location than the primary conference.\n\n
DTSTART;TZID=America/Denver:20250625T040000
DTEND;TZID=America/Denver:20250627T040001
LOCATION:9575 State St\, Sandy\, UT 84070 US
SUMMARY:2025 CAP Utah Conference
END:VEVENT
END:VCALENDAR
