BEGIN:VCALENDAR
VERSION:2.0
PRODID:-//caputah.org//NONSGML kigkonsult.se iCalcreator 2.30.10//
CALSCALE:GREGORIAN
METHOD:PUBLISH
UID:fffefa06-98d0-4fd4-9a71-50aa0bace069
X-WR-CALDESC:Join us for a two-part webinar series exploring how intentiona
 l\, well-designed services for both parents and children can drive lasting
  economic success and break the cycle of poverty. Grounded in the Whole Fa
 mily Approach (WFA)\, this series highlights how Community Action Agencies
  are implementing innovative strategies that meet families where they are—
 and move them forward.\nPart 1: Workforce Development Sufficient to Achiev
 e Economic Success Wednesday\, June 25\, 2025 | 2:00pm ET\nDescription: A 
 key component to achieving upward mobility is economic success. Achieving 
 economic success takes services and supports that are intensive enough and
  sufficient to help parents achieve stability and grow their earning poten
 tial and wealth. In this webinar\, learn how a local Community Action Agen
 cy (CAA) has developed an innovative\, strategic\, and intentional model f
 or workforce training services that help parents achieve economic success.
 \nPart 2: Child Services That Advance Economic Success Through a Whole Fam
 ily Approach Wednesday\, July 30\, 2025 | 2:00pm ET\nDescription: Breaking
  the cycle of intergenerational poverty requires that infants\, children\,
  and youth get the best social\, emotional\, and educational opportunities
  early and all along the way. Helping children of all ages get and stay on
  track developmentally so they can succeed as adults takes intentional pla
 nning and design on the part of WFA leaders. Hear from WFA leaders who are
  providing high-quality\, innovative services to children at different dev
 elopmental stages and ages. \n\nDate & Time\nJun 25\, 2025 12:00 PM\nJul 3
 0\, 2025 12:00 PM
X-WR-RELCALID:dccd1b1e6810184b6ef641aa3878877c
X-WR-TIMEZONE:America/Denver
BEGIN:VTIMEZONE
TZID:America/Denver
BEGIN:STANDARD
TZNAME:MST
DTSTART:20241103T020000
TZOFFSETFROM:-0600
TZOFFSETTO:-0700
RDATE:20251102T020000
RDATE:20261101T020000
END:STANDARD
BEGIN:DAYLIGHT
TZNAME:MDT
DTSTART:20250309T020000
TZOFFSETFROM:-0700
TZOFFSETTO:-0600
RDATE:20260308T020000
END:DAYLIGHT
END:VTIMEZONE
BEGIN:VEVENT
UID:7a0c0eb2-9104-4072-b56d-1b07eb398249
DTSTAMP:20260422T164707Z
DESCRIPTION:Join us for a two-part webinar series exploring how intentional
 \, well-designed services for both parents and children can drive lasting 
 economic success and break the cycle of poverty. Grounded in the Whole Fam
 ily Approach (WFA)\, this series highlights how Community Action Agencies 
 are implementing innovative strategies that meet families where they are—a
 nd move them forward.\nPart 1: Workforce Development Sufficient to Achieve
  Economic Success Wednesday\, June 25\, 2025 | 2:00pm ET\nDescription: A k
 ey component to achieving upward mobility is economic success. Achieving e
 conomic success takes services and supports that are intensive enough and 
 sufficient to help parents achieve stability and grow their earning potent
 ial and wealth. In this webinar\, learn how a local Community Action Agenc
 y (CAA) has developed an innovative\, strategic\, and intentional model fo
 r workforce training services that help parents achieve economic success.
 \nPart 2: Child Services That Advance Economic Success Through a Whole Fam
 ily Approach Wednesday\, July 30\, 2025 | 2:00pm ET\nDescription: Breaking
  the cycle of intergenerational poverty requires that infants\, children\,
  and youth get the best social\, emotional\, and educational opportunities
  early and all along the way. Helping children of all ages get and stay on
  track developmentally so they can succeed as adults takes intentional pla
 nning and design on the part of WFA leaders. Hear from WFA leaders who are
  providing high-quality\, innovative services to children at different dev
 elopmental stages and ages. \n\nDate & Time\nJun 25\, 2025 12:00 PM\nJul 3
 0\, 2025 12:00 PM
DTSTART;TZID=America/Denver:20250625T120000
DTEND;TZID=America/Denver:20250625T130000
LOCATION:https://communityactionpartnership.zoom.us/webinar/register/WN_6PS
 f08j5ThaTN6hV7GI8YQ#/registration
SUMMARY:NCAP - Building Strong Futures: Parent and Child Outcomes for Econo
 mic Success in the Whole Family Approach - Part 1: Workforce Development S
 ufficient to Achieve Economic Succes
END:VEVENT
END:VCALENDAR
