BEGIN:VCALENDAR
VERSION:2.0
PRODID:-//caputah.org//NONSGML kigkonsult.se iCalcreator 2.30.10//
CALSCALE:GREGORIAN
METHOD:PUBLISH
UID:3afe24d0-4f44-4951-a7db-d7033e1dc168
X-WR-CALDESC:Utah Valley-based nonprofits\, come network with other nonprof
 its and chamber members\; enjoy hors d’oeuvres and stay for the show!\n\n5
 :00 PM Welcome\n\n5:15 PM Nonprofit Panel\n\n5:35 PM Discussion with UNA C
 EO Jill Bennett\n\n6:00 PM Networking\n\n6:30 PM Hors d'oeuvres\n\n7:30-10
 :00 An American in Paris\n\nAbout the Nonprofit Resource Committee within 
 the Utah Valley Chamber of Commerce: \n\nThe Nonprofit Resource Committee 
 (NRC) within the Utah Valley Chamber of Commerce serves as a vital entity 
 to support\, uplift\, and empower nonprofit organizations throughout Utah 
 Valley. Our mission is to provide nonprofits with access to resources\, st
 rategic partnerships\, and community engagement opportunities.
X-WR-RELCALID:09ad3919ea28d3297d32b9b8a99a98bc
X-WR-TIMEZONE:America/Denver
BEGIN:VTIMEZONE
TZID:America/Denver
BEGIN:STANDARD
TZNAME:MST
DTSTART:20241103T020000
TZOFFSETFROM:-0600
TZOFFSETTO:-0700
RDATE:20251102T020000
RDATE:20261101T020000
END:STANDARD
BEGIN:DAYLIGHT
TZNAME:MDT
DTSTART:20250309T020000
TZOFFSETFROM:-0700
TZOFFSETTO:-0600
RDATE:20260308T020000
END:DAYLIGHT
END:VTIMEZONE
BEGIN:VEVENT
UID:1521ebaf-6610-4583-b624-7be2f0fe3b72
DTSTAMP:20260422T182114Z
DESCRIPTION:Utah Valley-based nonprofits\, come network with other nonprofi
 ts and chamber members\; enjoy hors d’oeuvres and stay for the show!\n\n5:
 00 PM Welcome\n\n5:15 PM Nonprofit Panel\n\n5:35 PM Discussion with UNA CE
 O Jill Bennett\n\n6:00 PM Networking\n\n6:30 PM Hors d'oeuvres\n\n7:30-10:
 00 An American in Paris\n\nAbout the Nonprofit Resource Committee within t
 he Utah Valley Chamber of Commerce: \n\nThe Nonprofit Resource Committee (
 NRC) within the Utah Valley Chamber of Commerce serves as a vital entity t
 o support\, uplift\, and empower nonprofit organizations throughout Utah V
 alley. Our mission is to provide nonprofits with access to resources\, str
 ategic partnerships\, and community engagement opportunities.
DTSTART;TZID=America/Denver:20250626T160000
DTEND;TZID=America/Denver:20250626T220000
LOCATION:The Ruth and Nathan Hale Theater\, 401 S. Pleasant Grove Blvd\, Pl
 easant Grove\, UT 84062 US
SUMMARY:UCA - Utah Valley Chamber of Commerce Presents Nonprofit Chamber ni
 ght at The Ruth
END:VEVENT
END:VCALENDAR
